BEGIN:VCALENDAR
VERSION:2.0
PRODID:-//Konocti Vista Casino - ECPv6.14.2//NONSGML v1.0//EN
CALSCALE:GREGORIAN
METHOD:PUBLISH
X-ORIGINAL-URL:https://konocti-vista-casino.com
X-WR-CALDESC:Events for Konocti Vista Casino
REFRESH-INTERVAL;VALUE=DURATION:PT1H
X-Robots-Tag:noindex
X-PUBLISHED-TTL:PT1H
BEGIN:VTIMEZONE
TZID:America/Los_Angeles
BEGIN:DAYLIGHT
TZOFFSETFROM:-0800
TZOFFSETTO:-0700
TZNAME:PDT
DTSTART:20250309T100000
END:DAYLIGHT
BEGIN:STANDARD
TZOFFSETFROM:-0700
TZOFFSETTO:-0800
TZNAME:PST
DTSTART:20251102T090000
END:STANDARD
END:VTIMEZONE
BEGIN:VEVENT
DTSTART;VALUE=DATE:20251002
DTEND;VALUE=DATE:20251003
DTSTAMP:20260420T135443
CREATED:20250308T213327Z
LAST-MODIFIED:20260402T162329Z
UID:10016998-1759363200-1759449599@konocti-vista-casino.com
SUMMARY:Dollar Stretcher
DESCRIPTION:Every Thursday at the Player’s Club! \nEarn a $20 for $30 Dollar stretcher with after earning 10 same-day points turning your $20 into $30 free play! See Player’s Club for details. \nManagement Reserves All Rights.
URL:https://konocti-vista-casino.com/event/stacked-dollar-stretchers/2025-10-02/
CATEGORIES:Promotions
ATTACH;FMTTYPE=image/jpeg:https://konocti-vista-casino.com/wp-content/uploads/2025/03/1.26-Dollar-Stretchers-Thursdays-TV.jpg
END:VEVENT
BEGIN:VEVENT
DTSTART;TZID=America/Los_Angeles:20251002T200000
DTEND;TZID=America/Los_Angeles:20251002T233000
DTSTAMP:20260420T135443
CREATED:20250506T175410Z
LAST-MODIFIED:20250507T194624Z
UID:10012685-1759435200-1759447800@konocti-vista-casino.com
SUMMARY:Karaoke Night with DJ Kutter at the Point Bar
DESCRIPTION: Karaoke Night with DJ Kutter at the Point Bar! \n\nJoin us every First Thursday of the Month from 8PM to 11:30PM for a night of singing\, dancing\, and pure fun! Whether you’re a seasoned performer or just looking to have a good time\, it’s going to be a blast! \n\nMark your calendars and get ready to hit those high notes!  
URL:https://konocti-vista-casino.com/event/karaoke-night-with-dj-kutter-at-the-point-bar/2025-10-02/
CATEGORIES:Entertainment
ATTACH;FMTTYPE=image/jpeg:https://konocti-vista-casino.com/wp-content/uploads/2025/05/Karaoke-Night-with-DJ-Kutter-Flyer.jpg
END:VEVENT
END:VCALENDAR