BEGIN:VCALENDAR
VERSION:2.0
PRODID:-//Konocti Vista Casino - ECPv6.14.2//NONSGML v1.0//EN
CALSCALE:GREGORIAN
METHOD:PUBLISH
X-WR-CALNAME:Konocti Vista Casino
X-ORIGINAL-URL:https://konocti-vista-casino.com
X-WR-CALDESC:Events for Konocti Vista Casino
REFRESH-INTERVAL;VALUE=DURATION:PT1H
X-Robots-Tag:noindex
X-PUBLISHED-TTL:PT1H
BEGIN:VTIMEZONE
TZID:America/Los_Angeles
BEGIN:DAYLIGHT
TZOFFSETFROM:-0800
TZOFFSETTO:-0700
TZNAME:PDT
DTSTART:20250309T100000
END:DAYLIGHT
BEGIN:STANDARD
TZOFFSETFROM:-0700
TZOFFSETTO:-0800
TZNAME:PST
DTSTART:20251102T090000
END:STANDARD
END:VTIMEZONE
BEGIN:VEVENT
DTSTART;VALUE=DATE:20251122
DTEND;VALUE=DATE:20251123
DTSTAMP:20260422T152920
CREATED:20250814T165709Z
LAST-MODIFIED:20250814T182823Z
UID:10016443-1763769600-1763855999@konocti-vista-casino.com
SUMMARY:Lucky Fortunes Kiosk Wheel
DESCRIPTION:Win up to $100 in Freeplay after earning 25 same-day points and spinning the Lucky Fortunes Kiosk Wheel at the Player’s Club. \nLimit one spin per day. \nSee Player’s Club for more details. \nManagement Reserves All Rights.
URL:https://konocti-vista-casino.com/event/lucky-fortunes-kiosk-wheel-2/2025-11-22/
CATEGORIES:Promotions
ATTACH;FMTTYPE=image/jpeg:https://konocti-vista-casino.com/wp-content/uploads/2025/08/Lucky-Fortunes-Wheel-25-points-Kiosk-Promotion-TV.jpg
END:VEVENT
END:VCALENDAR