BEGIN:VCALENDAR
VERSION:2.0
PRODID:-//Konocti Vista Casino - ECPv6.14.2//NONSGML v1.0//EN
CALSCALE:GREGORIAN
METHOD:PUBLISH
X-WR-CALNAME:Konocti Vista Casino
X-ORIGINAL-URL:https://konocti-vista-casino.com
X-WR-CALDESC:Events for Konocti Vista Casino
REFRESH-INTERVAL;VALUE=DURATION:PT1H
X-Robots-Tag:noindex
X-PUBLISHED-TTL:PT1H
BEGIN:VTIMEZONE
TZID:America/Los_Angeles
BEGIN:DAYLIGHT
TZOFFSETFROM:-0800
TZOFFSETTO:-0700
TZNAME:PDT
DTSTART:20260308T100000
END:DAYLIGHT
BEGIN:STANDARD
TZOFFSETFROM:-0700
TZOFFSETTO:-0800
TZNAME:PST
DTSTART:20261101T090000
END:STANDARD
END:VTIMEZONE
BEGIN:VEVENT
DTSTART;VALUE=DATE:20260404
DTEND;VALUE=DATE:20260405
DTSTAMP:20260419T073851
CREATED:20250814T175709Z
LAST-MODIFIED:20250814T192823Z
UID:10016462-1775260800-1775347199@konocti-vista-casino.com
SUMMARY:Lucky Fortunes Kiosk Wheel
DESCRIPTION:Win up to $100 in Freeplay after earning 25 same-day points and spinning the Lucky Fortunes Kiosk Wheel at the Player’s Club. \nLimit one spin per day. \nSee Player’s Club for more details. \nManagement Reserves All Rights.
URL:https://konocti-vista-casino.com/event/lucky-fortunes-kiosk-wheel-2/2026-04-04/
CATEGORIES:Promotions
ATTACH;FMTTYPE=image/jpeg:https://konocti-vista-casino.com/wp-content/uploads/2025/08/Lucky-Fortunes-Wheel-25-points-Kiosk-Promotion-TV.jpg
END:VEVENT
BEGIN:VEVENT
DTSTART;TZID=America/Los_Angeles:20260404T180000
DTEND;TZID=America/Los_Angeles:20260404T220000
DTSTAMP:20260419T073851
CREATED:20260403T210114Z
LAST-MODIFIED:20260403T210212Z
UID:10019471-1775325600-1775340000@konocti-vista-casino.com
SUMMARY:Your Lucky Season Giveaway
DESCRIPTION:🍀 YOUR LUCKY SEASON GIVEAWAY\nWin Cash Every Saturday in April at Konocti Vista Casino!\nApril is your time to win big at Konocti Vista Casino—your Best Bet on the Lake! Join us all month long for the Your Lucky Season Giveaway\, where cash prizes are up for grabs every Saturday night. \n💰 WEEKLY CASH DRAWINGS\nEvery Saturday in April\, we’re giving away $4\,500 in cash! \n\n🕕 Drawings every 30 minutes from 6PM – 10PM\n🎉 9 Winners each Saturday\n💵 $500 Cash per winner\n\nEarn entries with every 20 points on your Players Club card during the promotional period. \n🔥 FINAL SATURDAY FINALE\nDon’t miss the grand finale on April 25th\, 2026! \n\n🕥 10:30PM Finale Drawing\n💥 3 Winners of $1\,000 Cash!\n\n🧾 TAX REFUND BONUS WEEK\nApril 10th – April 15th \nCelebrate tax season with even more chances to win! \n\n✨ 2X Entries All Week Long\n\n🎟️ HOW TO EARN ENTRIES\nIt’s simple—just play! \n\nEarn 1 entry for every 20 points earned on your Players Club card\nThe more you play\, the more chances you have to win\n\n⚠️ PROMOTION DETAILS\nMust be a Konocti Vista Casino Player’s Club member and 21 or older to participate. Must be present to win. Management reserves all rights. See Players Club for full details.
URL:https://konocti-vista-casino.com/event/your-lucky-season-giveaway/2026-04-04/
CATEGORIES:Promotions
ATTACH;FMTTYPE=image/jpeg:https://konocti-vista-casino.com/wp-content/uploads/2026/04/4.26-Lucky-Season-Giveaway-TV.jpg
END:VEVENT
END:VCALENDAR