BEGIN:VCALENDAR
VERSION:2.0
PRODID:-//Konocti Vista Casino - ECPv6.14.2//NONSGML v1.0//EN
CALSCALE:GREGORIAN
METHOD:PUBLISH
X-ORIGINAL-URL:https://konocti-vista-casino.com
X-WR-CALDESC:Events for Konocti Vista Casino
REFRESH-INTERVAL;VALUE=DURATION:PT1H
X-Robots-Tag:noindex
X-PUBLISHED-TTL:PT1H
BEGIN:VTIMEZONE
TZID:America/Los_Angeles
BEGIN:DAYLIGHT
TZOFFSETFROM:-0800
TZOFFSETTO:-0700
TZNAME:PDT
DTSTART:20260308T100000
END:DAYLIGHT
BEGIN:STANDARD
TZOFFSETFROM:-0700
TZOFFSETTO:-0800
TZNAME:PST
DTSTART:20261101T090000
END:STANDARD
END:VTIMEZONE
BEGIN:VEVENT
DTSTART;VALUE=DATE:20260217
DTEND;VALUE=DATE:20260218
DTSTAMP:20260423T011937
CREATED:20250122T163243Z
LAST-MODIFIED:20260402T182952Z
UID:10006396-1771286400-1771372799@konocti-vista-casino.com
SUMMARY:Scratch and Win up to $500 CASH!
DESCRIPTION:Earn 40 same-day points on Tuesday and win up to $500 CASH! \nEarn more scratchers with higher club levels! \n\nTule level = 1 scratcher per day\nHitch level = 2 scratchers per day\nBass level = 3 scratchers per day\nOsprey level = 4 scratchers per day\n\nMust redeemed at Players Club and available while supplies last.
URL:https://konocti-vista-casino.com/event/scratchers-galore/2026-02-17/
CATEGORIES:Promotions
ATTACH;FMTTYPE=image/jpeg:https://konocti-vista-casino.com/wp-content/uploads/2025/01/3.25-Scratch-and-Win-every-Tuesday-TV.jpg
END:VEVENT
BEGIN:VEVENT
DTSTART;VALUE=DATE:20260217
DTEND;VALUE=DATE:20260218
DTSTAMP:20260423T011937
CREATED:20250122T165353Z
LAST-MODIFIED:20260402T201212Z
UID:10007708-1771286400-1771372799@konocti-vista-casino.com
SUMMARY:$5.99 KVC Burger
DESCRIPTION:On Tuesdays\, claim your $5.99 KVC Burger voucher after earning 1 same-day point at the Player’s Club!
URL:https://konocti-vista-casino.com/event/5-99-kvc-burger/2026-02-17/
CATEGORIES:Promotions
ATTACH;FMTTYPE=image/jpeg:https://konocti-vista-casino.com/wp-content/uploads/2025/01/1.23-Tuesday-5.99-Burger-TV.jpg
END:VEVENT
BEGIN:VEVENT
DTSTART;VALUE=DATE:20260218
DTEND;VALUE=DATE:20260219
DTSTAMP:20260423T011937
CREATED:20250814T165936Z
LAST-MODIFIED:20250814T165936Z
UID:10016717-1771372800-1771459199@konocti-vista-casino.com
SUMMARY:Freeplay Blitz
DESCRIPTION:Join the Freeplay Blitz every Wednesday and earn up to $100 FREEPLAY! \nEarn $5 freeplay with every 30 same-day points up to 20 times for a total of $100 in Freeplay. \n  \nSee Player’s Club for details. \nManagement Reserves All Rights.
URL:https://konocti-vista-casino.com/event/freeplay-blitz/2026-02-18/
CATEGORIES:Promotions
ATTACH;FMTTYPE=image/jpeg:https://konocti-vista-casino.com/wp-content/uploads/2025/08/8.25-Freeplay-Blitz-Wednesdays-TV.jpg
END:VEVENT
BEGIN:VEVENT
DTSTART;VALUE=DATE:20260219
DTEND;VALUE=DATE:20260220
DTSTAMP:20260423T011937
CREATED:20250308T213327Z
LAST-MODIFIED:20260402T152329Z
UID:10017018-1771459200-1771545599@konocti-vista-casino.com
SUMMARY:Dollar Stretcher
DESCRIPTION:Every Thursday at the Player’s Club! \nEarn a $20 for $30 Dollar stretcher with after earning 10 same-day points turning your $20 into $30 free play! See Player’s Club for details. \nManagement Reserves All Rights.
URL:https://konocti-vista-casino.com/event/stacked-dollar-stretchers/2026-02-19/
CATEGORIES:Promotions
ATTACH;FMTTYPE=image/jpeg:https://konocti-vista-casino.com/wp-content/uploads/2025/03/1.26-Dollar-Stretchers-Thursdays-TV.jpg
END:VEVENT
BEGIN:VEVENT
DTSTART;TZID=America/Los_Angeles:20260220T160000
DTEND;TZID=America/Los_Angeles:20260220T220000
DTSTAMP:20260423T011937
CREATED:20250501T193710Z
LAST-MODIFIED:20260402T183148Z
UID:10017690-1771603200-1771624800@konocti-vista-casino.com
SUMMARY:Fri-Yay Hot Seats
DESCRIPTION:Every Friday from 4PM to 10PM\, a random winner each hour will score up to $300 in free play. Choose a mystery box to reveal your prize! Must be actively playing with your Player’s Club card and have earned at least 25 same-day points to be eligible.
URL:https://konocti-vista-casino.com/event/fri-yay-hot-seats/2026-02-20/
CATEGORIES:Promotions
ATTACH;FMTTYPE=image/jpeg:https://konocti-vista-casino.com/wp-content/uploads/2025/05/1.26-FRI-YAY-Hot-Seats-TV.jpg
END:VEVENT
BEGIN:VEVENT
DTSTART;VALUE=DATE:20260221
DTEND;VALUE=DATE:20260222
DTSTAMP:20260423T011937
CREATED:20250814T165709Z
LAST-MODIFIED:20250814T182823Z
UID:10016456-1771632000-1771718399@konocti-vista-casino.com
SUMMARY:Lucky Fortunes Kiosk Wheel
DESCRIPTION:Win up to $100 in Freeplay after earning 25 same-day points and spinning the Lucky Fortunes Kiosk Wheel at the Player’s Club. \nLimit one spin per day. \nSee Player’s Club for more details. \nManagement Reserves All Rights.
URL:https://konocti-vista-casino.com/event/lucky-fortunes-kiosk-wheel-2/2026-02-21/
CATEGORIES:Promotions
ATTACH;FMTTYPE=image/jpeg:https://konocti-vista-casino.com/wp-content/uploads/2025/08/Lucky-Fortunes-Wheel-25-points-Kiosk-Promotion-TV.jpg
END:VEVENT
BEGIN:VEVENT
DTSTART;VALUE=DATE:20260222
DTEND;VALUE=DATE:20260223
DTSTAMP:20260423T011937
CREATED:20250430T210304Z
LAST-MODIFIED:20260218T193736Z
UID:10011640-1771718400-1771804799@konocti-vista-casino.com
SUMMARY:Weekly $10 Matchplay
DESCRIPTION:Earn 2 same-day points and we will match it with $10 EZ Kash exclusive for Player’s Club Levels Hitch and Higher! Tule Club Level players can redeem $10 freeplay after earning 4 same-day pojnts. Available every Sunday! Redeem at the Player’s Club or the Player’s Club Kiosk. Limit one per day.
URL:https://konocti-vista-casino.com/event/10-matchplay-2/2026-02-22/
CATEGORIES:Promotions
ATTACH;FMTTYPE=image/jpeg:https://konocti-vista-casino.com/wp-content/uploads/2025/04/2.26-10-Matchplay-Thumbnail.jpg
END:VEVENT
BEGIN:VEVENT
DTSTART;VALUE=DATE:20260223
DTEND;VALUE=DATE:20260224
DTSTAMP:20260423T011937
CREATED:20250122T163023Z
LAST-MODIFIED:20260403T212118Z
UID:10006079-1771804800-1771891199@konocti-vista-casino.com
SUMMARY:Monday Early Bird Senior Day!
DESCRIPTION:Senior Early Bird Drawing\nMondays at 5PM at Konocti Vista Casino\nIf you’re 50 or older\, start your week with a chance to win at Konocti Vista Casino\, voted Best Casino. \nJoin us every Monday at 5PM for our Senior Early Bird Weekly Drawing\, where 3 winners will each receive $200 in points. \n🎯 Promotion Details\n\nDrawing Time: Every Monday at 5PM\nPrize: 3 winners of $200 in points\nEligibility: Guests age 50 and older\n\n🎟️ How to Earn Entries\n\nEarn 10 same-day points to receive 1 drawing ticket\nLimit of one ticket per day\, per person\nGuests can earn entries daily throughout the month\n\n🔄 Monthly Reset\n\nAll entries remain in the drawing barrel throughout the month\nThe drawing barrel is emptied at the end of each month\, and a new earning period begins\n\n⚠️ Important Information\nMust be a Player’s Club member\, age 50 or older\, and present to win. Management reserves all rights. See Player’s Club for complete details.
URL:https://konocti-vista-casino.com/event/monday-early-bird-senior-day/2026-02-23/
CATEGORIES:Promotions
ATTACH;FMTTYPE=image/jpeg:https://konocti-vista-casino.com/wp-content/uploads/2025/01/4.26-Senior-Early-Bird-Drawing-TV.jpg
END:VEVENT
BEGIN:VEVENT
DTSTART;VALUE=DATE:20260223
DTEND;VALUE=DATE:20260224
DTSTAMP:20260423T011937
CREATED:20250122T165201Z
LAST-MODIFIED:20260403T220652Z
UID:10007447-1771804800-1771891199@konocti-vista-casino.com
SUMMARY:$6.99 Ham Steak & Eggs
DESCRIPTION:On Mondays\, claim your $6.99 Ham Steak and Eggs Voucher after earning 1 same-day point at the Players Club. Limit one per person.
URL:https://konocti-vista-casino.com/event/6-99-ham-steak-eggs/2026-02-23/
CATEGORIES:Promotions
ATTACH;FMTTYPE=image/jpeg:https://konocti-vista-casino.com/wp-content/uploads/2025/01/4.26-6.99-ham-steak-and-eggs-TV.jpg
END:VEVENT
BEGIN:VEVENT
DTSTART;VALUE=DATE:20260224
DTEND;VALUE=DATE:20260225
DTSTAMP:20260423T011937
CREATED:20250122T163243Z
LAST-MODIFIED:20260402T182952Z
UID:10006398-1771891200-1771977599@konocti-vista-casino.com
SUMMARY:Scratch and Win up to $500 CASH!
DESCRIPTION:Earn 40 same-day points on Tuesday and win up to $500 CASH! \nEarn more scratchers with higher club levels! \n\nTule level = 1 scratcher per day\nHitch level = 2 scratchers per day\nBass level = 3 scratchers per day\nOsprey level = 4 scratchers per day\n\nMust redeemed at Players Club and available while supplies last.
URL:https://konocti-vista-casino.com/event/scratchers-galore/2026-02-24/
CATEGORIES:Promotions
ATTACH;FMTTYPE=image/jpeg:https://konocti-vista-casino.com/wp-content/uploads/2025/01/3.25-Scratch-and-Win-every-Tuesday-TV.jpg
END:VEVENT
BEGIN:VEVENT
DTSTART;VALUE=DATE:20260224
DTEND;VALUE=DATE:20260225
DTSTAMP:20260423T011937
CREATED:20250122T165353Z
LAST-MODIFIED:20260402T201212Z
UID:10007709-1771891200-1771977599@konocti-vista-casino.com
SUMMARY:$5.99 KVC Burger
DESCRIPTION:On Tuesdays\, claim your $5.99 KVC Burger voucher after earning 1 same-day point at the Player’s Club!
URL:https://konocti-vista-casino.com/event/5-99-kvc-burger/2026-02-24/
CATEGORIES:Promotions
ATTACH;FMTTYPE=image/jpeg:https://konocti-vista-casino.com/wp-content/uploads/2025/01/1.23-Tuesday-5.99-Burger-TV.jpg
END:VEVENT
BEGIN:VEVENT
DTSTART;VALUE=DATE:20260225
DTEND;VALUE=DATE:20260226
DTSTAMP:20260423T011937
CREATED:20250814T165936Z
LAST-MODIFIED:20250814T165936Z
UID:10016718-1771977600-1772063999@konocti-vista-casino.com
SUMMARY:Freeplay Blitz
DESCRIPTION:Join the Freeplay Blitz every Wednesday and earn up to $100 FREEPLAY! \nEarn $5 freeplay with every 30 same-day points up to 20 times for a total of $100 in Freeplay. \n  \nSee Player’s Club for details. \nManagement Reserves All Rights.
URL:https://konocti-vista-casino.com/event/freeplay-blitz/2026-02-25/
CATEGORIES:Promotions
ATTACH;FMTTYPE=image/jpeg:https://konocti-vista-casino.com/wp-content/uploads/2025/08/8.25-Freeplay-Blitz-Wednesdays-TV.jpg
END:VEVENT
BEGIN:VEVENT
DTSTART;VALUE=DATE:20260226
DTEND;VALUE=DATE:20260227
DTSTAMP:20260423T011937
CREATED:20250308T213327Z
LAST-MODIFIED:20260402T152329Z
UID:10017019-1772064000-1772150399@konocti-vista-casino.com
SUMMARY:Dollar Stretcher
DESCRIPTION:Every Thursday at the Player’s Club! \nEarn a $20 for $30 Dollar stretcher with after earning 10 same-day points turning your $20 into $30 free play! See Player’s Club for details. \nManagement Reserves All Rights.
URL:https://konocti-vista-casino.com/event/stacked-dollar-stretchers/2026-02-26/
CATEGORIES:Promotions
ATTACH;FMTTYPE=image/jpeg:https://konocti-vista-casino.com/wp-content/uploads/2025/03/1.26-Dollar-Stretchers-Thursdays-TV.jpg
END:VEVENT
BEGIN:VEVENT
DTSTART;TZID=America/Los_Angeles:20260227T160000
DTEND;TZID=America/Los_Angeles:20260227T220000
DTSTAMP:20260423T011937
CREATED:20250501T193710Z
LAST-MODIFIED:20260402T183148Z
UID:10017691-1772208000-1772229600@konocti-vista-casino.com
SUMMARY:Fri-Yay Hot Seats
DESCRIPTION:Every Friday from 4PM to 10PM\, a random winner each hour will score up to $300 in free play. Choose a mystery box to reveal your prize! Must be actively playing with your Player’s Club card and have earned at least 25 same-day points to be eligible.
URL:https://konocti-vista-casino.com/event/fri-yay-hot-seats/2026-02-27/
CATEGORIES:Promotions
ATTACH;FMTTYPE=image/jpeg:https://konocti-vista-casino.com/wp-content/uploads/2025/05/1.26-FRI-YAY-Hot-Seats-TV.jpg
END:VEVENT
BEGIN:VEVENT
DTSTART;VALUE=DATE:20260228
DTEND;VALUE=DATE:20260301
DTSTAMP:20260423T011937
CREATED:20250814T165709Z
LAST-MODIFIED:20250814T182823Z
UID:10016457-1772236800-1772323199@konocti-vista-casino.com
SUMMARY:Lucky Fortunes Kiosk Wheel
DESCRIPTION:Win up to $100 in Freeplay after earning 25 same-day points and spinning the Lucky Fortunes Kiosk Wheel at the Player’s Club. \nLimit one spin per day. \nSee Player’s Club for more details. \nManagement Reserves All Rights.
URL:https://konocti-vista-casino.com/event/lucky-fortunes-kiosk-wheel-2/2026-02-28/
CATEGORIES:Promotions
ATTACH;FMTTYPE=image/jpeg:https://konocti-vista-casino.com/wp-content/uploads/2025/08/Lucky-Fortunes-Wheel-25-points-Kiosk-Promotion-TV.jpg
END:VEVENT
BEGIN:VEVENT
DTSTART;VALUE=DATE:20260301
DTEND;VALUE=DATE:20260302
DTSTAMP:20260423T011937
CREATED:20250430T210304Z
LAST-MODIFIED:20260218T193736Z
UID:10011641-1772323200-1772409599@konocti-vista-casino.com
SUMMARY:Weekly $10 Matchplay
DESCRIPTION:Earn 2 same-day points and we will match it with $10 EZ Kash exclusive for Player’s Club Levels Hitch and Higher! Tule Club Level players can redeem $10 freeplay after earning 4 same-day pojnts. Available every Sunday! Redeem at the Player’s Club or the Player’s Club Kiosk. Limit one per day.
URL:https://konocti-vista-casino.com/event/10-matchplay-2/2026-03-01/
CATEGORIES:Promotions
ATTACH;FMTTYPE=image/jpeg:https://konocti-vista-casino.com/wp-content/uploads/2025/04/2.26-10-Matchplay-Thumbnail.jpg
END:VEVENT
BEGIN:VEVENT
DTSTART;VALUE=DATE:20260302
DTEND;VALUE=DATE:20260303
DTSTAMP:20260423T011937
CREATED:20250122T163023Z
LAST-MODIFIED:20260403T212118Z
UID:10006080-1772409600-1772495999@konocti-vista-casino.com
SUMMARY:Monday Early Bird Senior Day!
DESCRIPTION:Senior Early Bird Drawing\nMondays at 5PM at Konocti Vista Casino\nIf you’re 50 or older\, start your week with a chance to win at Konocti Vista Casino\, voted Best Casino. \nJoin us every Monday at 5PM for our Senior Early Bird Weekly Drawing\, where 3 winners will each receive $200 in points. \n🎯 Promotion Details\n\nDrawing Time: Every Monday at 5PM\nPrize: 3 winners of $200 in points\nEligibility: Guests age 50 and older\n\n🎟️ How to Earn Entries\n\nEarn 10 same-day points to receive 1 drawing ticket\nLimit of one ticket per day\, per person\nGuests can earn entries daily throughout the month\n\n🔄 Monthly Reset\n\nAll entries remain in the drawing barrel throughout the month\nThe drawing barrel is emptied at the end of each month\, and a new earning period begins\n\n⚠️ Important Information\nMust be a Player’s Club member\, age 50 or older\, and present to win. Management reserves all rights. See Player’s Club for complete details.
URL:https://konocti-vista-casino.com/event/monday-early-bird-senior-day/2026-03-02/
CATEGORIES:Promotions
ATTACH;FMTTYPE=image/jpeg:https://konocti-vista-casino.com/wp-content/uploads/2025/01/4.26-Senior-Early-Bird-Drawing-TV.jpg
END:VEVENT
BEGIN:VEVENT
DTSTART;VALUE=DATE:20260302
DTEND;VALUE=DATE:20260303
DTSTAMP:20260423T011937
CREATED:20250122T165201Z
LAST-MODIFIED:20260403T220652Z
UID:10007448-1772409600-1772495999@konocti-vista-casino.com
SUMMARY:$6.99 Ham Steak & Eggs
DESCRIPTION:On Mondays\, claim your $6.99 Ham Steak and Eggs Voucher after earning 1 same-day point at the Players Club. Limit one per person.
URL:https://konocti-vista-casino.com/event/6-99-ham-steak-eggs/2026-03-02/
CATEGORIES:Promotions
ATTACH;FMTTYPE=image/jpeg:https://konocti-vista-casino.com/wp-content/uploads/2025/01/4.26-6.99-ham-steak-and-eggs-TV.jpg
END:VEVENT
BEGIN:VEVENT
DTSTART;VALUE=DATE:20260303
DTEND;VALUE=DATE:20260304
DTSTAMP:20260423T011937
CREATED:20250122T163243Z
LAST-MODIFIED:20260402T182952Z
UID:10006400-1772496000-1772582399@konocti-vista-casino.com
SUMMARY:Scratch and Win up to $500 CASH!
DESCRIPTION:Earn 40 same-day points on Tuesday and win up to $500 CASH! \nEarn more scratchers with higher club levels! \n\nTule level = 1 scratcher per day\nHitch level = 2 scratchers per day\nBass level = 3 scratchers per day\nOsprey level = 4 scratchers per day\n\nMust redeemed at Players Club and available while supplies last.
URL:https://konocti-vista-casino.com/event/scratchers-galore/2026-03-03/
CATEGORIES:Promotions
ATTACH;FMTTYPE=image/jpeg:https://konocti-vista-casino.com/wp-content/uploads/2025/01/3.25-Scratch-and-Win-every-Tuesday-TV.jpg
END:VEVENT
BEGIN:VEVENT
DTSTART;VALUE=DATE:20260303
DTEND;VALUE=DATE:20260304
DTSTAMP:20260423T011937
CREATED:20250122T165353Z
LAST-MODIFIED:20260402T201212Z
UID:10007710-1772496000-1772582399@konocti-vista-casino.com
SUMMARY:$5.99 KVC Burger
DESCRIPTION:On Tuesdays\, claim your $5.99 KVC Burger voucher after earning 1 same-day point at the Player’s Club!
URL:https://konocti-vista-casino.com/event/5-99-kvc-burger/2026-03-03/
CATEGORIES:Promotions
ATTACH;FMTTYPE=image/jpeg:https://konocti-vista-casino.com/wp-content/uploads/2025/01/1.23-Tuesday-5.99-Burger-TV.jpg
END:VEVENT
BEGIN:VEVENT
DTSTART;VALUE=DATE:20260304
DTEND;VALUE=DATE:20260305
DTSTAMP:20260423T011937
CREATED:20250814T165936Z
LAST-MODIFIED:20250814T165936Z
UID:10016719-1772582400-1772668799@konocti-vista-casino.com
SUMMARY:Freeplay Blitz
DESCRIPTION:Join the Freeplay Blitz every Wednesday and earn up to $100 FREEPLAY! \nEarn $5 freeplay with every 30 same-day points up to 20 times for a total of $100 in Freeplay. \n  \nSee Player’s Club for details. \nManagement Reserves All Rights.
URL:https://konocti-vista-casino.com/event/freeplay-blitz/2026-03-04/
CATEGORIES:Promotions
ATTACH;FMTTYPE=image/jpeg:https://konocti-vista-casino.com/wp-content/uploads/2025/08/8.25-Freeplay-Blitz-Wednesdays-TV.jpg
END:VEVENT
BEGIN:VEVENT
DTSTART;VALUE=DATE:20260305
DTEND;VALUE=DATE:20260306
DTSTAMP:20260423T011937
CREATED:20250308T213327Z
LAST-MODIFIED:20260402T152329Z
UID:10017020-1772668800-1772755199@konocti-vista-casino.com
SUMMARY:Dollar Stretcher
DESCRIPTION:Every Thursday at the Player’s Club! \nEarn a $20 for $30 Dollar stretcher with after earning 10 same-day points turning your $20 into $30 free play! See Player’s Club for details. \nManagement Reserves All Rights.
URL:https://konocti-vista-casino.com/event/stacked-dollar-stretchers/2026-03-05/
CATEGORIES:Promotions
ATTACH;FMTTYPE=image/jpeg:https://konocti-vista-casino.com/wp-content/uploads/2025/03/1.26-Dollar-Stretchers-Thursdays-TV.jpg
END:VEVENT
BEGIN:VEVENT
DTSTART;TZID=America/Los_Angeles:20260306T160000
DTEND;TZID=America/Los_Angeles:20260306T220000
DTSTAMP:20260423T011937
CREATED:20250501T193710Z
LAST-MODIFIED:20260402T183148Z
UID:10017692-1772812800-1772834400@konocti-vista-casino.com
SUMMARY:Fri-Yay Hot Seats
DESCRIPTION:Every Friday from 4PM to 10PM\, a random winner each hour will score up to $300 in free play. Choose a mystery box to reveal your prize! Must be actively playing with your Player’s Club card and have earned at least 25 same-day points to be eligible.
URL:https://konocti-vista-casino.com/event/fri-yay-hot-seats/2026-03-06/
CATEGORIES:Promotions
ATTACH;FMTTYPE=image/jpeg:https://konocti-vista-casino.com/wp-content/uploads/2025/05/1.26-FRI-YAY-Hot-Seats-TV.jpg
END:VEVENT
BEGIN:VEVENT
DTSTART;VALUE=DATE:20260307
DTEND;VALUE=DATE:20260308
DTSTAMP:20260423T011937
CREATED:20250814T165709Z
LAST-MODIFIED:20250814T182823Z
UID:10016458-1772841600-1772927999@konocti-vista-casino.com
SUMMARY:Lucky Fortunes Kiosk Wheel
DESCRIPTION:Win up to $100 in Freeplay after earning 25 same-day points and spinning the Lucky Fortunes Kiosk Wheel at the Player’s Club. \nLimit one spin per day. \nSee Player’s Club for more details. \nManagement Reserves All Rights.
URL:https://konocti-vista-casino.com/event/lucky-fortunes-kiosk-wheel-2/2026-03-07/
CATEGORIES:Promotions
ATTACH;FMTTYPE=image/jpeg:https://konocti-vista-casino.com/wp-content/uploads/2025/08/Lucky-Fortunes-Wheel-25-points-Kiosk-Promotion-TV.jpg
END:VEVENT
BEGIN:VEVENT
DTSTART;VALUE=DATE:20260308
DTEND;VALUE=DATE:20260310
DTSTAMP:20260423T011937
CREATED:20250430T210304Z
LAST-MODIFIED:20260218T193736Z
UID:10011642-1772928000-1773017999@konocti-vista-casino.com
SUMMARY:Weekly $10 Matchplay
DESCRIPTION:Earn 2 same-day points and we will match it with $10 EZ Kash exclusive for Player’s Club Levels Hitch and Higher! Tule Club Level players can redeem $10 freeplay after earning 4 same-day pojnts. Available every Sunday! Redeem at the Player’s Club or the Player’s Club Kiosk. Limit one per day.
URL:https://konocti-vista-casino.com/event/10-matchplay-2/2026-03-08/
CATEGORIES:Promotions
ATTACH;FMTTYPE=image/jpeg:https://konocti-vista-casino.com/wp-content/uploads/2025/04/2.26-10-Matchplay-Thumbnail.jpg
END:VEVENT
BEGIN:VEVENT
DTSTART;VALUE=DATE:20260309
DTEND;VALUE=DATE:20260310
DTSTAMP:20260423T011937
CREATED:20250122T163023Z
LAST-MODIFIED:20260403T212118Z
UID:10006081-1773014400-1773100799@konocti-vista-casino.com
SUMMARY:Monday Early Bird Senior Day!
DESCRIPTION:Senior Early Bird Drawing\nMondays at 5PM at Konocti Vista Casino\nIf you’re 50 or older\, start your week with a chance to win at Konocti Vista Casino\, voted Best Casino. \nJoin us every Monday at 5PM for our Senior Early Bird Weekly Drawing\, where 3 winners will each receive $200 in points. \n🎯 Promotion Details\n\nDrawing Time: Every Monday at 5PM\nPrize: 3 winners of $200 in points\nEligibility: Guests age 50 and older\n\n🎟️ How to Earn Entries\n\nEarn 10 same-day points to receive 1 drawing ticket\nLimit of one ticket per day\, per person\nGuests can earn entries daily throughout the month\n\n🔄 Monthly Reset\n\nAll entries remain in the drawing barrel throughout the month\nThe drawing barrel is emptied at the end of each month\, and a new earning period begins\n\n⚠️ Important Information\nMust be a Player’s Club member\, age 50 or older\, and present to win. Management reserves all rights. See Player’s Club for complete details.
URL:https://konocti-vista-casino.com/event/monday-early-bird-senior-day/2026-03-09/
CATEGORIES:Promotions
ATTACH;FMTTYPE=image/jpeg:https://konocti-vista-casino.com/wp-content/uploads/2025/01/4.26-Senior-Early-Bird-Drawing-TV.jpg
END:VEVENT
BEGIN:VEVENT
DTSTART;VALUE=DATE:20260309
DTEND;VALUE=DATE:20260310
DTSTAMP:20260423T011937
CREATED:20250122T165201Z
LAST-MODIFIED:20260403T220652Z
UID:10007449-1773014400-1773100799@konocti-vista-casino.com
SUMMARY:$6.99 Ham Steak & Eggs
DESCRIPTION:On Mondays\, claim your $6.99 Ham Steak and Eggs Voucher after earning 1 same-day point at the Players Club. Limit one per person.
URL:https://konocti-vista-casino.com/event/6-99-ham-steak-eggs/2026-03-09/
CATEGORIES:Promotions
ATTACH;FMTTYPE=image/jpeg:https://konocti-vista-casino.com/wp-content/uploads/2025/01/4.26-6.99-ham-steak-and-eggs-TV.jpg
END:VEVENT
BEGIN:VEVENT
DTSTART;VALUE=DATE:20260310
DTEND;VALUE=DATE:20260311
DTSTAMP:20260423T011937
CREATED:20250122T163243Z
LAST-MODIFIED:20260402T182952Z
UID:10006402-1773100800-1773187199@konocti-vista-casino.com
SUMMARY:Scratch and Win up to $500 CASH!
DESCRIPTION:Earn 40 same-day points on Tuesday and win up to $500 CASH! \nEarn more scratchers with higher club levels! \n\nTule level = 1 scratcher per day\nHitch level = 2 scratchers per day\nBass level = 3 scratchers per day\nOsprey level = 4 scratchers per day\n\nMust redeemed at Players Club and available while supplies last.
URL:https://konocti-vista-casino.com/event/scratchers-galore/2026-03-10/
CATEGORIES:Promotions
ATTACH;FMTTYPE=image/jpeg:https://konocti-vista-casino.com/wp-content/uploads/2025/01/3.25-Scratch-and-Win-every-Tuesday-TV.jpg
END:VEVENT
BEGIN:VEVENT
DTSTART;VALUE=DATE:20260310
DTEND;VALUE=DATE:20260311
DTSTAMP:20260423T011937
CREATED:20250122T165353Z
LAST-MODIFIED:20260402T201212Z
UID:10007711-1773100800-1773187199@konocti-vista-casino.com
SUMMARY:$5.99 KVC Burger
DESCRIPTION:On Tuesdays\, claim your $5.99 KVC Burger voucher after earning 1 same-day point at the Player’s Club!
URL:https://konocti-vista-casino.com/event/5-99-kvc-burger/2026-03-10/
CATEGORIES:Promotions
ATTACH;FMTTYPE=image/jpeg:https://konocti-vista-casino.com/wp-content/uploads/2025/01/1.23-Tuesday-5.99-Burger-TV.jpg
END:VEVENT
BEGIN:VEVENT
DTSTART;VALUE=DATE:20260311
DTEND;VALUE=DATE:20260312
DTSTAMP:20260423T011937
CREATED:20250814T165936Z
LAST-MODIFIED:20250814T165936Z
UID:10016720-1773187200-1773273599@konocti-vista-casino.com
SUMMARY:Freeplay Blitz
DESCRIPTION:Join the Freeplay Blitz every Wednesday and earn up to $100 FREEPLAY! \nEarn $5 freeplay with every 30 same-day points up to 20 times for a total of $100 in Freeplay. \n  \nSee Player’s Club for details. \nManagement Reserves All Rights.
URL:https://konocti-vista-casino.com/event/freeplay-blitz/2026-03-11/
CATEGORIES:Promotions
ATTACH;FMTTYPE=image/jpeg:https://konocti-vista-casino.com/wp-content/uploads/2025/08/8.25-Freeplay-Blitz-Wednesdays-TV.jpg
END:VEVENT
END:VCALENDAR