BEGIN:VCALENDAR
VERSION:2.0
PRODID:-//Konocti Vista Casino - ECPv6.14.2//NONSGML v1.0//EN
CALSCALE:GREGORIAN
METHOD:PUBLISH
X-ORIGINAL-URL:https://konocti-vista-casino.com
X-WR-CALDESC:Events for Konocti Vista Casino
REFRESH-INTERVAL;VALUE=DURATION:PT1H
X-Robots-Tag:noindex
X-PUBLISHED-TTL:PT1H
BEGIN:VTIMEZONE
TZID:America/Los_Angeles
BEGIN:DAYLIGHT
TZOFFSETFROM:-0800
TZOFFSETTO:-0700
TZNAME:PDT
DTSTART:20260308T100000
END:DAYLIGHT
BEGIN:STANDARD
TZOFFSETFROM:-0700
TZOFFSETTO:-0800
TZNAME:PST
DTSTART:20261101T090000
END:STANDARD
END:VTIMEZONE
BEGIN:VEVENT
DTSTART;TZID=America/Los_Angeles:20260815T170000
DTEND;TZID=America/Los_Angeles:20260815T220000
DTSTAMP:20260424T034018
CREATED:20260422T211539Z
LAST-MODIFIED:20260422T211539Z
UID:10019657-1786813200-1786831200@konocti-vista-casino.com
SUMMARY:Reggae Night with King Cruff
DESCRIPTION:Close out the summer in style at Konocti Vista Casino & Resort with the final night of Music on the Lake 2026 — featuring rising international artist King Cruff. \nSet against the backdrop of a stunning Clear Lake sunset\, this high-energy reggae and dancehall-infused performance is the perfect way to celebrate the final concert of the season. \nEvent Details\nDate: Saturday\, August 15\, 2026Location: Marina Lawn at Konocti Vista Casino & ResortAddress: 2755 Mission Rancheria Rd\, Lakeport\, CA \nDoors Open: 5:00PMMusic Starts: 6:00PMAdmission: FREEAges: All ages welcome \nFeatured Food Trucks\n\nLa Catrina Taco Truck\nTerped Out Kitchen\n\nEnjoy great food\, drinks from the Marina Bar\, and unbeatable lakefront sunset views as you experience the final show of the summer. \nAbout King Cruff\nKing Cruff is a fast-rising\, genre-blending artist signed to Tuff Gong and Universal Music Canada\, bringing a fresh and innovative sound to modern reggae. \nBorn in Kingston\, Jamaica and now based in Canada\, Cruff’s music fuses: \n\nReggae\nDancehall\nHip-hop\nAfrobeats\nFunk\n\nHis sound — which he describes as “punky” — pushes boundaries and blends styles across the Black musical diaspora\, creating something entirely unique. \nWith influences ranging from Beres Hammond to Kendrick Lamar\, and a sound reminiscent of artists like Kaytranada and GoldLink\, King Cruff delivers music that is both energetic and deeply introspective. \nHis lyrics explore themes of identity\, self-reflection\, and personal growth — creating a connection with listeners while delivering a powerful live performance. \nA Night to Remember\nAs the grand finale of the summer concert series\, this show brings together cutting-edge reggae sound\, high-energy performance\, and an unforgettable lakeside atmosphere. \nExpect a vibrant crowd\, incredible music\, and a celebration of summer you won’t want to miss. \nThe Perfect Summer Send-Off\nCelebrate the end of an incredible season of live music with friends\, family\, and great vibes by the water. Bring your lawn chairs\, enjoy the atmosphere\, and make this a night to remember. \nAdditional Information\n\nNo outside food or drinks permitted\nSeating is limited — lawn chairs recommended\nManagement reserves all rights\n\nKonocti Vista Casino & ResortVoted Best CasinoYour Best Bet on the Lake
URL:https://konocti-vista-casino.com/event/reggae-night-with-king-cruff/
LOCATION:Hotel Marina Lawn\, 2755 Mission Rancheria Road\, Lakeport\, CA\, 95453\, United States
CATEGORIES:Entertainment,Special Events
ATTACH;FMTTYPE=image/jpeg:https://konocti-vista-casino.com/wp-content/uploads/2026/04/8.15.26-2026-Summer-Music-Series-TV.jpg
END:VEVENT
END:VCALENDAR