BEGIN:VCALENDAR
VERSION:2.0
PRODID:-//Konocti Vista Casino - ECPv6.14.2//NONSGML v1.0//EN
CALSCALE:GREGORIAN
METHOD:PUBLISH
X-ORIGINAL-URL:https://konocti-vista-casino.com
X-WR-CALDESC:Events for Konocti Vista Casino
REFRESH-INTERVAL;VALUE=DURATION:PT1H
X-Robots-Tag:noindex
X-PUBLISHED-TTL:PT1H
BEGIN:VTIMEZONE
TZID:America/Los_Angeles
BEGIN:DAYLIGHT
TZOFFSETFROM:-0800
TZOFFSETTO:-0700
TZNAME:PDT
DTSTART:20260308T100000
END:DAYLIGHT
BEGIN:STANDARD
TZOFFSETFROM:-0700
TZOFFSETTO:-0800
TZNAME:PST
DTSTART:20261101T090000
END:STANDARD
BEGIN:DAYLIGHT
TZOFFSETFROM:-0800
TZOFFSETTO:-0700
TZNAME:PDT
DTSTART:20270314T100000
END:DAYLIGHT
BEGIN:STANDARD
TZOFFSETFROM:-0700
TZOFFSETTO:-0800
TZNAME:PST
DTSTART:20271107T090000
END:STANDARD
END:VTIMEZONE
BEGIN:VEVENT
DTSTART;VALUE=DATE:20260708
DTEND;VALUE=DATE:20260709
DTSTAMP:20260421T083127
CREATED:20250814T175936Z
LAST-MODIFIED:20250814T175936Z
UID:10016737-1783468800-1783555199@konocti-vista-casino.com
SUMMARY:Freeplay Blitz
DESCRIPTION:Join the Freeplay Blitz every Wednesday and earn up to $100 FREEPLAY! \nEarn $5 freeplay with every 30 same-day points up to 20 times for a total of $100 in Freeplay. \n  \nSee Player’s Club for details. \nManagement Reserves All Rights.
URL:https://konocti-vista-casino.com/event/freeplay-blitz/2026-07-08/
CATEGORIES:Promotions
ATTACH;FMTTYPE=image/jpeg:https://konocti-vista-casino.com/wp-content/uploads/2025/08/8.25-Freeplay-Blitz-Wednesdays-TV.jpg
END:VEVENT
BEGIN:VEVENT
DTSTART;VALUE=DATE:20260715
DTEND;VALUE=DATE:20260716
DTSTAMP:20260421T083127
CREATED:20250814T175936Z
LAST-MODIFIED:20250814T175936Z
UID:10016738-1784073600-1784159999@konocti-vista-casino.com
SUMMARY:Freeplay Blitz
DESCRIPTION:Join the Freeplay Blitz every Wednesday and earn up to $100 FREEPLAY! \nEarn $5 freeplay with every 30 same-day points up to 20 times for a total of $100 in Freeplay. \n  \nSee Player’s Club for details. \nManagement Reserves All Rights.
URL:https://konocti-vista-casino.com/event/freeplay-blitz/2026-07-15/
CATEGORIES:Promotions
ATTACH;FMTTYPE=image/jpeg:https://konocti-vista-casino.com/wp-content/uploads/2025/08/8.25-Freeplay-Blitz-Wednesdays-TV.jpg
END:VEVENT
BEGIN:VEVENT
DTSTART;VALUE=DATE:20260722
DTEND;VALUE=DATE:20260723
DTSTAMP:20260421T083127
CREATED:20250814T175936Z
LAST-MODIFIED:20250814T175936Z
UID:10016739-1784678400-1784764799@konocti-vista-casino.com
SUMMARY:Freeplay Blitz
DESCRIPTION:Join the Freeplay Blitz every Wednesday and earn up to $100 FREEPLAY! \nEarn $5 freeplay with every 30 same-day points up to 20 times for a total of $100 in Freeplay. \n  \nSee Player’s Club for details. \nManagement Reserves All Rights.
URL:https://konocti-vista-casino.com/event/freeplay-blitz/2026-07-22/
CATEGORIES:Promotions
ATTACH;FMTTYPE=image/jpeg:https://konocti-vista-casino.com/wp-content/uploads/2025/08/8.25-Freeplay-Blitz-Wednesdays-TV.jpg
END:VEVENT
BEGIN:VEVENT
DTSTART;VALUE=DATE:20260729
DTEND;VALUE=DATE:20260730
DTSTAMP:20260421T083127
CREATED:20250814T175936Z
LAST-MODIFIED:20250814T175936Z
UID:10016740-1785283200-1785369599@konocti-vista-casino.com
SUMMARY:Freeplay Blitz
DESCRIPTION:Join the Freeplay Blitz every Wednesday and earn up to $100 FREEPLAY! \nEarn $5 freeplay with every 30 same-day points up to 20 times for a total of $100 in Freeplay. \n  \nSee Player’s Club for details. \nManagement Reserves All Rights.
URL:https://konocti-vista-casino.com/event/freeplay-blitz/2026-07-29/
CATEGORIES:Promotions
ATTACH;FMTTYPE=image/jpeg:https://konocti-vista-casino.com/wp-content/uploads/2025/08/8.25-Freeplay-Blitz-Wednesdays-TV.jpg
END:VEVENT
BEGIN:VEVENT
DTSTART;VALUE=DATE:20260805
DTEND;VALUE=DATE:20260806
DTSTAMP:20260421T083127
CREATED:20250814T175936Z
LAST-MODIFIED:20250814T175936Z
UID:10016741-1785888000-1785974399@konocti-vista-casino.com
SUMMARY:Freeplay Blitz
DESCRIPTION:Join the Freeplay Blitz every Wednesday and earn up to $100 FREEPLAY! \nEarn $5 freeplay with every 30 same-day points up to 20 times for a total of $100 in Freeplay. \n  \nSee Player’s Club for details. \nManagement Reserves All Rights.
URL:https://konocti-vista-casino.com/event/freeplay-blitz/2026-08-05/
CATEGORIES:Promotions
ATTACH;FMTTYPE=image/jpeg:https://konocti-vista-casino.com/wp-content/uploads/2025/08/8.25-Freeplay-Blitz-Wednesdays-TV.jpg
END:VEVENT
BEGIN:VEVENT
DTSTART;VALUE=DATE:20260812
DTEND;VALUE=DATE:20260813
DTSTAMP:20260421T083127
CREATED:20250814T175936Z
LAST-MODIFIED:20250814T175936Z
UID:10016742-1786492800-1786579199@konocti-vista-casino.com
SUMMARY:Freeplay Blitz
DESCRIPTION:Join the Freeplay Blitz every Wednesday and earn up to $100 FREEPLAY! \nEarn $5 freeplay with every 30 same-day points up to 20 times for a total of $100 in Freeplay. \n  \nSee Player’s Club for details. \nManagement Reserves All Rights.
URL:https://konocti-vista-casino.com/event/freeplay-blitz/2026-08-12/
CATEGORIES:Promotions
ATTACH;FMTTYPE=image/jpeg:https://konocti-vista-casino.com/wp-content/uploads/2025/08/8.25-Freeplay-Blitz-Wednesdays-TV.jpg
END:VEVENT
BEGIN:VEVENT
DTSTART;VALUE=DATE:20260819
DTEND;VALUE=DATE:20260820
DTSTAMP:20260421T083127
CREATED:20250814T175936Z
LAST-MODIFIED:20250814T175936Z
UID:10016743-1787097600-1787183999@konocti-vista-casino.com
SUMMARY:Freeplay Blitz
DESCRIPTION:Join the Freeplay Blitz every Wednesday and earn up to $100 FREEPLAY! \nEarn $5 freeplay with every 30 same-day points up to 20 times for a total of $100 in Freeplay. \n  \nSee Player’s Club for details. \nManagement Reserves All Rights.
URL:https://konocti-vista-casino.com/event/freeplay-blitz/2026-08-19/
CATEGORIES:Promotions
ATTACH;FMTTYPE=image/jpeg:https://konocti-vista-casino.com/wp-content/uploads/2025/08/8.25-Freeplay-Blitz-Wednesdays-TV.jpg
END:VEVENT
BEGIN:VEVENT
DTSTART;VALUE=DATE:20260826
DTEND;VALUE=DATE:20260827
DTSTAMP:20260421T083127
CREATED:20250814T175936Z
LAST-MODIFIED:20250814T175936Z
UID:10016744-1787702400-1787788799@konocti-vista-casino.com
SUMMARY:Freeplay Blitz
DESCRIPTION:Join the Freeplay Blitz every Wednesday and earn up to $100 FREEPLAY! \nEarn $5 freeplay with every 30 same-day points up to 20 times for a total of $100 in Freeplay. \n  \nSee Player’s Club for details. \nManagement Reserves All Rights.
URL:https://konocti-vista-casino.com/event/freeplay-blitz/2026-08-26/
CATEGORIES:Promotions
ATTACH;FMTTYPE=image/jpeg:https://konocti-vista-casino.com/wp-content/uploads/2025/08/8.25-Freeplay-Blitz-Wednesdays-TV.jpg
END:VEVENT
BEGIN:VEVENT
DTSTART;VALUE=DATE:20260902
DTEND;VALUE=DATE:20260903
DTSTAMP:20260421T083127
CREATED:20250814T175936Z
LAST-MODIFIED:20250814T175936Z
UID:10016745-1788307200-1788393599@konocti-vista-casino.com
SUMMARY:Freeplay Blitz
DESCRIPTION:Join the Freeplay Blitz every Wednesday and earn up to $100 FREEPLAY! \nEarn $5 freeplay with every 30 same-day points up to 20 times for a total of $100 in Freeplay. \n  \nSee Player’s Club for details. \nManagement Reserves All Rights.
URL:https://konocti-vista-casino.com/event/freeplay-blitz/2026-09-02/
CATEGORIES:Promotions
ATTACH;FMTTYPE=image/jpeg:https://konocti-vista-casino.com/wp-content/uploads/2025/08/8.25-Freeplay-Blitz-Wednesdays-TV.jpg
END:VEVENT
BEGIN:VEVENT
DTSTART;VALUE=DATE:20260909
DTEND;VALUE=DATE:20260910
DTSTAMP:20260421T083127
CREATED:20250814T175936Z
LAST-MODIFIED:20250814T175936Z
UID:10016746-1788912000-1788998399@konocti-vista-casino.com
SUMMARY:Freeplay Blitz
DESCRIPTION:Join the Freeplay Blitz every Wednesday and earn up to $100 FREEPLAY! \nEarn $5 freeplay with every 30 same-day points up to 20 times for a total of $100 in Freeplay. \n  \nSee Player’s Club for details. \nManagement Reserves All Rights.
URL:https://konocti-vista-casino.com/event/freeplay-blitz/2026-09-09/
CATEGORIES:Promotions
ATTACH;FMTTYPE=image/jpeg:https://konocti-vista-casino.com/wp-content/uploads/2025/08/8.25-Freeplay-Blitz-Wednesdays-TV.jpg
END:VEVENT
BEGIN:VEVENT
DTSTART;VALUE=DATE:20260916
DTEND;VALUE=DATE:20260917
DTSTAMP:20260421T083127
CREATED:20250814T175936Z
LAST-MODIFIED:20250814T175936Z
UID:10016747-1789516800-1789603199@konocti-vista-casino.com
SUMMARY:Freeplay Blitz
DESCRIPTION:Join the Freeplay Blitz every Wednesday and earn up to $100 FREEPLAY! \nEarn $5 freeplay with every 30 same-day points up to 20 times for a total of $100 in Freeplay. \n  \nSee Player’s Club for details. \nManagement Reserves All Rights.
URL:https://konocti-vista-casino.com/event/freeplay-blitz/2026-09-16/
CATEGORIES:Promotions
ATTACH;FMTTYPE=image/jpeg:https://konocti-vista-casino.com/wp-content/uploads/2025/08/8.25-Freeplay-Blitz-Wednesdays-TV.jpg
END:VEVENT
BEGIN:VEVENT
DTSTART;VALUE=DATE:20260923
DTEND;VALUE=DATE:20260924
DTSTAMP:20260421T083127
CREATED:20250814T175936Z
LAST-MODIFIED:20250814T175936Z
UID:10016748-1790121600-1790207999@konocti-vista-casino.com
SUMMARY:Freeplay Blitz
DESCRIPTION:Join the Freeplay Blitz every Wednesday and earn up to $100 FREEPLAY! \nEarn $5 freeplay with every 30 same-day points up to 20 times for a total of $100 in Freeplay. \n  \nSee Player’s Club for details. \nManagement Reserves All Rights.
URL:https://konocti-vista-casino.com/event/freeplay-blitz/2026-09-23/
CATEGORIES:Promotions
ATTACH;FMTTYPE=image/jpeg:https://konocti-vista-casino.com/wp-content/uploads/2025/08/8.25-Freeplay-Blitz-Wednesdays-TV.jpg
END:VEVENT
BEGIN:VEVENT
DTSTART;VALUE=DATE:20260930
DTEND;VALUE=DATE:20261001
DTSTAMP:20260421T083127
CREATED:20250814T175936Z
LAST-MODIFIED:20250814T175936Z
UID:10016749-1790726400-1790812799@konocti-vista-casino.com
SUMMARY:Freeplay Blitz
DESCRIPTION:Join the Freeplay Blitz every Wednesday and earn up to $100 FREEPLAY! \nEarn $5 freeplay with every 30 same-day points up to 20 times for a total of $100 in Freeplay. \n  \nSee Player’s Club for details. \nManagement Reserves All Rights.
URL:https://konocti-vista-casino.com/event/freeplay-blitz/2026-09-30/
CATEGORIES:Promotions
ATTACH;FMTTYPE=image/jpeg:https://konocti-vista-casino.com/wp-content/uploads/2025/08/8.25-Freeplay-Blitz-Wednesdays-TV.jpg
END:VEVENT
BEGIN:VEVENT
DTSTART;VALUE=DATE:20261007
DTEND;VALUE=DATE:20261008
DTSTAMP:20260421T083127
CREATED:20250814T175936Z
LAST-MODIFIED:20250814T175936Z
UID:10016750-1791331200-1791417599@konocti-vista-casino.com
SUMMARY:Freeplay Blitz
DESCRIPTION:Join the Freeplay Blitz every Wednesday and earn up to $100 FREEPLAY! \nEarn $5 freeplay with every 30 same-day points up to 20 times for a total of $100 in Freeplay. \n  \nSee Player’s Club for details. \nManagement Reserves All Rights.
URL:https://konocti-vista-casino.com/event/freeplay-blitz/2026-10-07/
CATEGORIES:Promotions
ATTACH;FMTTYPE=image/jpeg:https://konocti-vista-casino.com/wp-content/uploads/2025/08/8.25-Freeplay-Blitz-Wednesdays-TV.jpg
END:VEVENT
BEGIN:VEVENT
DTSTART;VALUE=DATE:20261014
DTEND;VALUE=DATE:20261015
DTSTAMP:20260421T083127
CREATED:20250814T175936Z
LAST-MODIFIED:20250814T175936Z
UID:10016751-1791936000-1792022399@konocti-vista-casino.com
SUMMARY:Freeplay Blitz
DESCRIPTION:Join the Freeplay Blitz every Wednesday and earn up to $100 FREEPLAY! \nEarn $5 freeplay with every 30 same-day points up to 20 times for a total of $100 in Freeplay. \n  \nSee Player’s Club for details. \nManagement Reserves All Rights.
URL:https://konocti-vista-casino.com/event/freeplay-blitz/2026-10-14/
CATEGORIES:Promotions
ATTACH;FMTTYPE=image/jpeg:https://konocti-vista-casino.com/wp-content/uploads/2025/08/8.25-Freeplay-Blitz-Wednesdays-TV.jpg
END:VEVENT
BEGIN:VEVENT
DTSTART;VALUE=DATE:20261021
DTEND;VALUE=DATE:20261022
DTSTAMP:20260421T083127
CREATED:20250814T175936Z
LAST-MODIFIED:20250814T175936Z
UID:10016752-1792540800-1792627199@konocti-vista-casino.com
SUMMARY:Freeplay Blitz
DESCRIPTION:Join the Freeplay Blitz every Wednesday and earn up to $100 FREEPLAY! \nEarn $5 freeplay with every 30 same-day points up to 20 times for a total of $100 in Freeplay. \n  \nSee Player’s Club for details. \nManagement Reserves All Rights.
URL:https://konocti-vista-casino.com/event/freeplay-blitz/2026-10-21/
CATEGORIES:Promotions
ATTACH;FMTTYPE=image/jpeg:https://konocti-vista-casino.com/wp-content/uploads/2025/08/8.25-Freeplay-Blitz-Wednesdays-TV.jpg
END:VEVENT
BEGIN:VEVENT
DTSTART;VALUE=DATE:20261028
DTEND;VALUE=DATE:20261029
DTSTAMP:20260421T083127
CREATED:20250814T175936Z
LAST-MODIFIED:20250814T175936Z
UID:10016753-1793145600-1793231999@konocti-vista-casino.com
SUMMARY:Freeplay Blitz
DESCRIPTION:Join the Freeplay Blitz every Wednesday and earn up to $100 FREEPLAY! \nEarn $5 freeplay with every 30 same-day points up to 20 times for a total of $100 in Freeplay. \n  \nSee Player’s Club for details. \nManagement Reserves All Rights.
URL:https://konocti-vista-casino.com/event/freeplay-blitz/2026-10-28/
CATEGORIES:Promotions
ATTACH;FMTTYPE=image/jpeg:https://konocti-vista-casino.com/wp-content/uploads/2025/08/8.25-Freeplay-Blitz-Wednesdays-TV.jpg
END:VEVENT
BEGIN:VEVENT
DTSTART;VALUE=DATE:20261104
DTEND;VALUE=DATE:20261105
DTSTAMP:20260421T083127
CREATED:20250814T175936Z
LAST-MODIFIED:20250814T175936Z
UID:10016754-1793750400-1793836799@konocti-vista-casino.com
SUMMARY:Freeplay Blitz
DESCRIPTION:Join the Freeplay Blitz every Wednesday and earn up to $100 FREEPLAY! \nEarn $5 freeplay with every 30 same-day points up to 20 times for a total of $100 in Freeplay. \n  \nSee Player’s Club for details. \nManagement Reserves All Rights.
URL:https://konocti-vista-casino.com/event/freeplay-blitz/2026-11-04/
CATEGORIES:Promotions
ATTACH;FMTTYPE=image/jpeg:https://konocti-vista-casino.com/wp-content/uploads/2025/08/8.25-Freeplay-Blitz-Wednesdays-TV.jpg
END:VEVENT
BEGIN:VEVENT
DTSTART;VALUE=DATE:20261111
DTEND;VALUE=DATE:20261112
DTSTAMP:20260421T083127
CREATED:20250814T175936Z
LAST-MODIFIED:20250814T175936Z
UID:10016755-1794355200-1794441599@konocti-vista-casino.com
SUMMARY:Freeplay Blitz
DESCRIPTION:Join the Freeplay Blitz every Wednesday and earn up to $100 FREEPLAY! \nEarn $5 freeplay with every 30 same-day points up to 20 times for a total of $100 in Freeplay. \n  \nSee Player’s Club for details. \nManagement Reserves All Rights.
URL:https://konocti-vista-casino.com/event/freeplay-blitz/2026-11-11/
CATEGORIES:Promotions
ATTACH;FMTTYPE=image/jpeg:https://konocti-vista-casino.com/wp-content/uploads/2025/08/8.25-Freeplay-Blitz-Wednesdays-TV.jpg
END:VEVENT
BEGIN:VEVENT
DTSTART;VALUE=DATE:20261118
DTEND;VALUE=DATE:20261119
DTSTAMP:20260421T083127
CREATED:20250814T175936Z
LAST-MODIFIED:20250814T175936Z
UID:10016756-1794960000-1795046399@konocti-vista-casino.com
SUMMARY:Freeplay Blitz
DESCRIPTION:Join the Freeplay Blitz every Wednesday and earn up to $100 FREEPLAY! \nEarn $5 freeplay with every 30 same-day points up to 20 times for a total of $100 in Freeplay. \n  \nSee Player’s Club for details. \nManagement Reserves All Rights.
URL:https://konocti-vista-casino.com/event/freeplay-blitz/2026-11-18/
CATEGORIES:Promotions
ATTACH;FMTTYPE=image/jpeg:https://konocti-vista-casino.com/wp-content/uploads/2025/08/8.25-Freeplay-Blitz-Wednesdays-TV.jpg
END:VEVENT
BEGIN:VEVENT
DTSTART;VALUE=DATE:20261125
DTEND;VALUE=DATE:20261126
DTSTAMP:20260421T083127
CREATED:20250814T175936Z
LAST-MODIFIED:20250814T175936Z
UID:10016757-1795564800-1795651199@konocti-vista-casino.com
SUMMARY:Freeplay Blitz
DESCRIPTION:Join the Freeplay Blitz every Wednesday and earn up to $100 FREEPLAY! \nEarn $5 freeplay with every 30 same-day points up to 20 times for a total of $100 in Freeplay. \n  \nSee Player’s Club for details. \nManagement Reserves All Rights.
URL:https://konocti-vista-casino.com/event/freeplay-blitz/2026-11-25/
CATEGORIES:Promotions
ATTACH;FMTTYPE=image/jpeg:https://konocti-vista-casino.com/wp-content/uploads/2025/08/8.25-Freeplay-Blitz-Wednesdays-TV.jpg
END:VEVENT
BEGIN:VEVENT
DTSTART;VALUE=DATE:20261202
DTEND;VALUE=DATE:20261203
DTSTAMP:20260421T083127
CREATED:20250814T175936Z
LAST-MODIFIED:20250814T175936Z
UID:10016758-1796169600-1796255999@konocti-vista-casino.com
SUMMARY:Freeplay Blitz
DESCRIPTION:Join the Freeplay Blitz every Wednesday and earn up to $100 FREEPLAY! \nEarn $5 freeplay with every 30 same-day points up to 20 times for a total of $100 in Freeplay. \n  \nSee Player’s Club for details. \nManagement Reserves All Rights.
URL:https://konocti-vista-casino.com/event/freeplay-blitz/2026-12-02/
CATEGORIES:Promotions
ATTACH;FMTTYPE=image/jpeg:https://konocti-vista-casino.com/wp-content/uploads/2025/08/8.25-Freeplay-Blitz-Wednesdays-TV.jpg
END:VEVENT
BEGIN:VEVENT
DTSTART;VALUE=DATE:20261209
DTEND;VALUE=DATE:20261210
DTSTAMP:20260421T083127
CREATED:20250814T175936Z
LAST-MODIFIED:20250814T175936Z
UID:10016759-1796774400-1796860799@konocti-vista-casino.com
SUMMARY:Freeplay Blitz
DESCRIPTION:Join the Freeplay Blitz every Wednesday and earn up to $100 FREEPLAY! \nEarn $5 freeplay with every 30 same-day points up to 20 times for a total of $100 in Freeplay. \n  \nSee Player’s Club for details. \nManagement Reserves All Rights.
URL:https://konocti-vista-casino.com/event/freeplay-blitz/2026-12-09/
CATEGORIES:Promotions
ATTACH;FMTTYPE=image/jpeg:https://konocti-vista-casino.com/wp-content/uploads/2025/08/8.25-Freeplay-Blitz-Wednesdays-TV.jpg
END:VEVENT
BEGIN:VEVENT
DTSTART;VALUE=DATE:20261216
DTEND;VALUE=DATE:20261217
DTSTAMP:20260421T083127
CREATED:20250814T175936Z
LAST-MODIFIED:20250814T175936Z
UID:10016760-1797379200-1797465599@konocti-vista-casino.com
SUMMARY:Freeplay Blitz
DESCRIPTION:Join the Freeplay Blitz every Wednesday and earn up to $100 FREEPLAY! \nEarn $5 freeplay with every 30 same-day points up to 20 times for a total of $100 in Freeplay. \n  \nSee Player’s Club for details. \nManagement Reserves All Rights.
URL:https://konocti-vista-casino.com/event/freeplay-blitz/2026-12-16/
CATEGORIES:Promotions
ATTACH;FMTTYPE=image/jpeg:https://konocti-vista-casino.com/wp-content/uploads/2025/08/8.25-Freeplay-Blitz-Wednesdays-TV.jpg
END:VEVENT
BEGIN:VEVENT
DTSTART;VALUE=DATE:20261223
DTEND;VALUE=DATE:20261224
DTSTAMP:20260421T083127
CREATED:20250814T175936Z
LAST-MODIFIED:20250814T175936Z
UID:10016761-1797984000-1798070399@konocti-vista-casino.com
SUMMARY:Freeplay Blitz
DESCRIPTION:Join the Freeplay Blitz every Wednesday and earn up to $100 FREEPLAY! \nEarn $5 freeplay with every 30 same-day points up to 20 times for a total of $100 in Freeplay. \n  \nSee Player’s Club for details. \nManagement Reserves All Rights.
URL:https://konocti-vista-casino.com/event/freeplay-blitz/2026-12-23/
CATEGORIES:Promotions
ATTACH;FMTTYPE=image/jpeg:https://konocti-vista-casino.com/wp-content/uploads/2025/08/8.25-Freeplay-Blitz-Wednesdays-TV.jpg
END:VEVENT
BEGIN:VEVENT
DTSTART;VALUE=DATE:20261230
DTEND;VALUE=DATE:20261231
DTSTAMP:20260421T083127
CREATED:20250814T175936Z
LAST-MODIFIED:20250814T175936Z
UID:10016762-1798588800-1798675199@konocti-vista-casino.com
SUMMARY:Freeplay Blitz
DESCRIPTION:Join the Freeplay Blitz every Wednesday and earn up to $100 FREEPLAY! \nEarn $5 freeplay with every 30 same-day points up to 20 times for a total of $100 in Freeplay. \n  \nSee Player’s Club for details. \nManagement Reserves All Rights.
URL:https://konocti-vista-casino.com/event/freeplay-blitz/2026-12-30/
CATEGORIES:Promotions
ATTACH;FMTTYPE=image/jpeg:https://konocti-vista-casino.com/wp-content/uploads/2025/08/8.25-Freeplay-Blitz-Wednesdays-TV.jpg
END:VEVENT
BEGIN:VEVENT
DTSTART;VALUE=DATE:20270106
DTEND;VALUE=DATE:20270107
DTSTAMP:20260421T083127
CREATED:20250814T175936Z
LAST-MODIFIED:20250814T175936Z
UID:10016763-1799193600-1799279999@konocti-vista-casino.com
SUMMARY:Freeplay Blitz
DESCRIPTION:Join the Freeplay Blitz every Wednesday and earn up to $100 FREEPLAY! \nEarn $5 freeplay with every 30 same-day points up to 20 times for a total of $100 in Freeplay. \n  \nSee Player’s Club for details. \nManagement Reserves All Rights.
URL:https://konocti-vista-casino.com/event/freeplay-blitz/2027-01-06/
CATEGORIES:Promotions
ATTACH;FMTTYPE=image/jpeg:https://konocti-vista-casino.com/wp-content/uploads/2025/08/8.25-Freeplay-Blitz-Wednesdays-TV.jpg
END:VEVENT
BEGIN:VEVENT
DTSTART;VALUE=DATE:20270113
DTEND;VALUE=DATE:20270114
DTSTAMP:20260421T083127
CREATED:20250814T175936Z
LAST-MODIFIED:20250814T175936Z
UID:10016764-1799798400-1799884799@konocti-vista-casino.com
SUMMARY:Freeplay Blitz
DESCRIPTION:Join the Freeplay Blitz every Wednesday and earn up to $100 FREEPLAY! \nEarn $5 freeplay with every 30 same-day points up to 20 times for a total of $100 in Freeplay. \n  \nSee Player’s Club for details. \nManagement Reserves All Rights.
URL:https://konocti-vista-casino.com/event/freeplay-blitz/2027-01-13/
CATEGORIES:Promotions
ATTACH;FMTTYPE=image/jpeg:https://konocti-vista-casino.com/wp-content/uploads/2025/08/8.25-Freeplay-Blitz-Wednesdays-TV.jpg
END:VEVENT
BEGIN:VEVENT
DTSTART;VALUE=DATE:20270120
DTEND;VALUE=DATE:20270121
DTSTAMP:20260421T083127
CREATED:20250814T175936Z
LAST-MODIFIED:20250814T175936Z
UID:10016765-1800403200-1800489599@konocti-vista-casino.com
SUMMARY:Freeplay Blitz
DESCRIPTION:Join the Freeplay Blitz every Wednesday and earn up to $100 FREEPLAY! \nEarn $5 freeplay with every 30 same-day points up to 20 times for a total of $100 in Freeplay. \n  \nSee Player’s Club for details. \nManagement Reserves All Rights.
URL:https://konocti-vista-casino.com/event/freeplay-blitz/2027-01-20/
CATEGORIES:Promotions
ATTACH;FMTTYPE=image/jpeg:https://konocti-vista-casino.com/wp-content/uploads/2025/08/8.25-Freeplay-Blitz-Wednesdays-TV.jpg
END:VEVENT
BEGIN:VEVENT
DTSTART;VALUE=DATE:20270127
DTEND;VALUE=DATE:20270128
DTSTAMP:20260421T083127
CREATED:20250814T175936Z
LAST-MODIFIED:20250814T175936Z
UID:10016766-1801008000-1801094399@konocti-vista-casino.com
SUMMARY:Freeplay Blitz
DESCRIPTION:Join the Freeplay Blitz every Wednesday and earn up to $100 FREEPLAY! \nEarn $5 freeplay with every 30 same-day points up to 20 times for a total of $100 in Freeplay. \n  \nSee Player’s Club for details. \nManagement Reserves All Rights.
URL:https://konocti-vista-casino.com/event/freeplay-blitz/2027-01-27/
CATEGORIES:Promotions
ATTACH;FMTTYPE=image/jpeg:https://konocti-vista-casino.com/wp-content/uploads/2025/08/8.25-Freeplay-Blitz-Wednesdays-TV.jpg
END:VEVENT
END:VCALENDAR