BEGIN:VCALENDAR
VERSION:2.0
PRODID:-//Konocti Vista Casino - ECPv6.14.2//NONSGML v1.0//EN
CALSCALE:GREGORIAN
METHOD:PUBLISH
X-WR-CALNAME:Konocti Vista Casino
X-ORIGINAL-URL:https://konocti-vista-casino.com
X-WR-CALDESC:Events for Konocti Vista Casino
REFRESH-INTERVAL;VALUE=DURATION:PT1H
X-Robots-Tag:noindex
X-PUBLISHED-TTL:PT1H
BEGIN:VTIMEZONE
TZID:America/Los_Angeles
BEGIN:DAYLIGHT
TZOFFSETFROM:-0800
TZOFFSETTO:-0700
TZNAME:PDT
DTSTART:20260308T100000
END:DAYLIGHT
BEGIN:STANDARD
TZOFFSETFROM:-0700
TZOFFSETTO:-0800
TZNAME:PST
DTSTART:20261101T090000
END:STANDARD
END:VTIMEZONE
BEGIN:VEVENT
DTSTART;TZID=America/Los_Angeles:20260718T170000
DTEND;TZID=America/Los_Angeles:20260718T220000
DTSTAMP:20260424T101219
CREATED:20260422T205349Z
LAST-MODIFIED:20260422T205349Z
UID:10019654-1784394000-1784412000@konocti-vista-casino.com
SUMMARY:Reggae Night with Inna Vision
DESCRIPTION:Get ready for an electrifying night of island vibes as Inna Vision brings their high-energy reggae sound to the Marina Lawn at Konocti Vista Casino & Resort. \nPart of the Music on the Lake Summer Concert Series\, this free outdoor concert delivers global reggae energy\, powerful live performance\, and unforgettable lakefront atmosphere. \nEvent Details\nDate: Saturday\, July 18\, 2026Location: Marina Lawn at Konocti Vista Casino & ResortAddress: 2755 Mission Rancheria Rd\, Lakeport\, CA \nDoors Open: 5:00PMMusic Starts: 6:00PMAdmission: FREEAges: All ages welcome \nFeatured Food Trucks\n\nLa Catrina Taco Truck\nTerped Out Kitchen\n\nEnjoy delicious food\, refreshing drinks from the Marina Bar\, and incredible sunset views while you take in the music. \nAbout Inna Vision\nInna Vision is a GRAMMY®-nominated international reggae band representing the vibrant sound of Hawaii on a global stage. \nOriginating from the island of Maui\, the band has built a reputation for dynamic performances\, strong lyrical messages\, and unmatched energy\, touring extensively across: \n\nUnited States\nEurope & United Kingdom\nCanada\nSouth America\nJapan\n\nSince 2008\, Inna Vision has performed in over 70 cities worldwide and continues to push the boundaries of modern reggae. \nCareer Highlights\n\n11 Studio Albums since 2005\nMultiple albums nominated for Reggae Album of the Year (Na Hoku Hanohano Awards)\nMajor festival appearances including:\n\nCalifornia Roots Festival\nReggae on the River\nReggae Rise Up\nOne Love Fest\nRototom Sunsplash\nSummerjam (Germany)\nMontreux Jazz Festival (Switzerland)\n\n\nShared the stage with:\n\nDamian “Jr. Gong” Marley\nSteel Pulse\nUB40\nKabaka Pyramid\nAlborosie\nGentleman\nJ Boog\nTribal Seeds\n\n\nCollaborations with artists such as:\nRichie Spice\, Ini Kamoze\, Jesse Royal\, Tippa Irie\, Jemere Morgan\, Dre Island\, and more.\n\nExperience Music on the Lake\nFrom international reggae sounds to lakeside sunsets\, this is one of the most anticipated nights of the summer. Bring your lawn chairs\, gather your crew\, and enjoy a night filled with music\, dancing\, and unforgettable vibes. \nAdditional Information\n\nNo outside food or drinks permitted\nSeating is limited — lawn chairs recommended\nManagement reserves all rights\n\nKonocti Vista Casino & ResortVoted Best CasinoYour Best Bet on the Lake
URL:https://konocti-vista-casino.com/event/reggae-night-with-inna-vision/
LOCATION:Hotel Marina Lawn\, 2755 Mission Rancheria Road\, Lakeport\, CA\, 95453\, United States
CATEGORIES:Entertainment,Special Events
ATTACH;FMTTYPE=image/jpeg:https://konocti-vista-casino.com/wp-content/uploads/2026/04/7.18.26-2026-Summer-Music-Series-TV.jpg
END:VEVENT
BEGIN:VEVENT
DTSTART;TZID=America/Los_Angeles:20260725T170000
DTEND;TZID=America/Los_Angeles:20260725T220000
DTSTAMP:20260424T101219
CREATED:20260422T210046Z
LAST-MODIFIED:20260422T210046Z
UID:10019655-1784998800-1785016800@konocti-vista-casino.com
SUMMARY:Country Night with Ariel Jean Band
DESCRIPTION:Get ready for a high-energy night of live country music on the lake as the Ariel Jean Band takes the stage at Konocti Vista Casino & Resort for Music on the Lake 2026. \nBlending heartfelt songwriting\, powerful vocals\, and a dynamic full-band sound\, Ariel Jean delivers a performance that captures the spirit of modern country with a personal\, storytelling edge. \nEvent Details\nDate: Saturday\, July 25\, 2026Location: Marina Lawn at Konocti Vista Casino & ResortAddress: 2755 Mission Rancheria Rd\, Lakeport\, CA \nDoors Open: 5:00PMMusic Starts: 6:00PM (DJ COUNTRY SETLIST)Band Starts: 7:00PMAdmission: FREEAges: All ages welcome \nFeatured Food Truck\n\nLa Catrina Taco Truck\n\nEnjoy great food\, drinks from the Marina Bar\, and beautiful lakefront sunset views while you take in live country music. \nAbout Ariel Jean Band\nAriel Jean is a singer-songwriter based in the Sacramento area\, originally from Loomis\, California. Writing songs since the age of 12\, she formed the Ariel Jean Band in 2016 and quickly built a strong following through performances at local venues\, major festivals\, and opening slots for national country acts. \nShe has shared the stage with: \n\nSam Hunt (GoldenSky Festival – Sacramento)\nTim McGraw (Country Summer – Sonoma)\nLittle Big Town & Kip Moore (Country in the Park – Sacramento)\n\nWith an impressive catalog of over 50 original songs\, Ariel’s music is rooted in authentic storytelling\, drawing inspiration from her life\, family\, and passion for performing. \nThe Ariel Jean Band delivers a versatile live performance with a rotating lineup of talented musicians\, featuring guitar\, fiddle\, keys\, drums\, and strong vocal harmonies — creating a full\, engaging country sound perfect for a summer night on the lake. \nA Perfect Summer Night\nBring your lawn chairs\, gather your friends\, and enjoy an evening filled with live music\, dancing\, and unforgettable lakeside vibes. Whether you’re a longtime country fan or just looking for a fun night out\, this is a show you won’t want to miss. \nAdditional Information\n\nNo outside food or drinks permitted\nSeating is limited — lawn chairs recommended\nManagement reserves all rights\n\nKonocti Vista Casino & ResortVoted Best CasinoYour Best Bet on the Lake
URL:https://konocti-vista-casino.com/event/country-night-with-ariel-jean-band/
LOCATION:Hotel Marina Lawn\, 2755 Mission Rancheria Road\, Lakeport\, CA\, 95453\, United States
CATEGORIES:Entertainment,Special Events
ATTACH;FMTTYPE=image/jpeg:https://konocti-vista-casino.com/wp-content/uploads/2026/04/7.25.26-2026-Summer-Music-Series-TV.jpg
END:VEVENT
END:VCALENDAR