BEGIN:VCALENDAR
VERSION:2.0
PRODID:-//Konocti Vista Casino - ECPv6.14.2//NONSGML v1.0//EN
CALSCALE:GREGORIAN
METHOD:PUBLISH
X-WR-CALNAME:Konocti Vista Casino
X-ORIGINAL-URL:https://konocti-vista-casino.com
X-WR-CALDESC:Events for Konocti Vista Casino
REFRESH-INTERVAL;VALUE=DURATION:PT1H
X-Robots-Tag:noindex
X-PUBLISHED-TTL:PT1H
BEGIN:VTIMEZONE
TZID:America/Los_Angeles
BEGIN:DAYLIGHT
TZOFFSETFROM:-0800
TZOFFSETTO:-0700
TZNAME:PDT
DTSTART:20260308T100000
END:DAYLIGHT
BEGIN:STANDARD
TZOFFSETFROM:-0700
TZOFFSETTO:-0800
TZNAME:PST
DTSTART:20261101T090000
END:STANDARD
END:VTIMEZONE
BEGIN:VEVENT
DTSTART;TZID=America/Los_Angeles:20260218T180000
DTEND;TZID=America/Los_Angeles:20260218T200000
DTSTAMP:20260423T224049
CREATED:20250814T173011Z
LAST-MODIFIED:20260116T172652Z
UID:10018017-1771437600-1771444800@konocti-vista-casino.com
SUMMARY:Weekly Line Dancing Lessons at Point Bar
DESCRIPTION:Wednesdays at the Point Bar \nJoin local instructor\, Shari Koch\, for free Line Dancing Lessons in the Point Bar from 6:00pm to 8:00pm. \nMust be 21 or older.
URL:https://konocti-vista-casino.com/event/weekly-line-dancing-lessons-at-point-bar/2026-02-18/
LOCATION:The Point Bar\, 2755 Mission Rancheria Road\, Lakeport\, CA\, 95453\, United States
CATEGORIES:Entertainment
ATTACH;FMTTYPE=image/jpeg:https://konocti-vista-casino.com/wp-content/uploads/2025/08/Weekly-Line-Dancing-Lessons-at-Point-BarTV.jpg
END:VEVENT
BEGIN:VEVENT
DTSTART;VALUE=DATE:20260218
DTEND;VALUE=DATE:20260219
DTSTAMP:20260423T224049
CREATED:20250814T165936Z
LAST-MODIFIED:20250814T165936Z
UID:10016717-1771372800-1771459199@konocti-vista-casino.com
SUMMARY:Freeplay Blitz
DESCRIPTION:Join the Freeplay Blitz every Wednesday and earn up to $100 FREEPLAY! \nEarn $5 freeplay with every 30 same-day points up to 20 times for a total of $100 in Freeplay. \n  \nSee Player’s Club for details. \nManagement Reserves All Rights.
URL:https://konocti-vista-casino.com/event/freeplay-blitz/2026-02-18/
CATEGORIES:Promotions
ATTACH;FMTTYPE=image/jpeg:https://konocti-vista-casino.com/wp-content/uploads/2025/08/8.25-Freeplay-Blitz-Wednesdays-TV.jpg
END:VEVENT
BEGIN:VEVENT
DTSTART;VALUE=DATE:20260215
DTEND;VALUE=DATE:20260216
DTSTAMP:20260423T224049
CREATED:20250430T210304Z
LAST-MODIFIED:20260218T193736Z
UID:10011639-1771113600-1771199999@konocti-vista-casino.com
SUMMARY:Weekly $10 Matchplay
DESCRIPTION:Earn 2 same-day points and we will match it with $10 EZ Kash exclusive for Player’s Club Levels Hitch and Higher! Tule Club Level players can redeem $10 freeplay after earning 4 same-day pojnts. Available every Sunday! Redeem at the Player’s Club or the Player’s Club Kiosk. Limit one per day.
URL:https://konocti-vista-casino.com/event/10-matchplay-2/2026-02-15/
CATEGORIES:Promotions
ATTACH;FMTTYPE=image/jpeg:https://konocti-vista-casino.com/wp-content/uploads/2025/04/2.26-10-Matchplay-Thumbnail.jpg
END:VEVENT
BEGIN:VEVENT
DTSTART;VALUE=DATE:20260214
DTEND;VALUE=DATE:20260215
DTSTAMP:20260423T224049
CREATED:20250814T165709Z
LAST-MODIFIED:20250814T182823Z
UID:10016455-1771027200-1771113599@konocti-vista-casino.com
SUMMARY:Lucky Fortunes Kiosk Wheel
DESCRIPTION:Win up to $100 in Freeplay after earning 25 same-day points and spinning the Lucky Fortunes Kiosk Wheel at the Player’s Club. \nLimit one spin per day. \nSee Player’s Club for more details. \nManagement Reserves All Rights.
URL:https://konocti-vista-casino.com/event/lucky-fortunes-kiosk-wheel-2/2026-02-14/
CATEGORIES:Promotions
ATTACH;FMTTYPE=image/jpeg:https://konocti-vista-casino.com/wp-content/uploads/2025/08/Lucky-Fortunes-Wheel-25-points-Kiosk-Promotion-TV.jpg
END:VEVENT
BEGIN:VEVENT
DTSTART;TZID=America/Los_Angeles:20260213T220000
DTEND;TZID=America/Los_Angeles:20260214T020000
DTSTAMP:20260423T224049
CREATED:20250814T164707Z
LAST-MODIFIED:20260403T213312Z
UID:10015931-1771020000-1771034400@konocti-vista-casino.com
SUMMARY:Latin DJ Night at Point Bar
DESCRIPTION:💃 NOCHE LATINA at Konocti Vista Casino\nTurn up the heat every Friday night at Noche Latina—the ultimate late-night party at the Point Bar. Dance the night away to high-energy Latin beats\, enjoy refreshing drink specials\, and experience the vibrant atmosphere that keeps the party going all night long. \n🎶 Event Details\nTodos los viernes10PM – 2AMDJ en vivo • Música LatinaEntrada Gratuita • Bebidas Especiales📍 Point Bar – Konocti Vista Casino \n🔥 What to Expect\n\nLive DJ spinning the best in Latin hits\nHigh-energy dance floor atmosphere\nSignature cocktails and drink specials\nNo cover charge—just show up and enjoy\n\nBring your friends\, grab a drink\, and feel the rhythm at Noche Latina—only at Konocti Vista Casino\, your Best Bet on the Lake!
URL:https://konocti-vista-casino.com/event/latin-dj-night-at-point-bar/2026-02-13/
LOCATION:The Point Bar\, 2755 Mission Rancheria Road\, Lakeport\, CA\, 95453\, United States
CATEGORIES:Entertainment
ATTACH;FMTTYPE=image/jpeg:https://konocti-vista-casino.com/wp-content/uploads/2025/08/4.26-Noche-Latina-DJ-en-vivo-TV.jpg
END:VEVENT
BEGIN:VEVENT
DTSTART;VALUE=DATE:20260212
DTEND;VALUE=DATE:20260213
DTSTAMP:20260423T224049
CREATED:20250308T213327Z
LAST-MODIFIED:20260402T152329Z
UID:10017017-1770854400-1770940799@konocti-vista-casino.com
SUMMARY:Dollar Stretcher
DESCRIPTION:Every Thursday at the Player’s Club! \nEarn a $20 for $30 Dollar stretcher with after earning 10 same-day points turning your $20 into $30 free play! See Player’s Club for details. \nManagement Reserves All Rights.
URL:https://konocti-vista-casino.com/event/stacked-dollar-stretchers/2026-02-12/
CATEGORIES:Promotions
ATTACH;FMTTYPE=image/jpeg:https://konocti-vista-casino.com/wp-content/uploads/2025/03/1.26-Dollar-Stretchers-Thursdays-TV.jpg
END:VEVENT
BEGIN:VEVENT
DTSTART;TZID=America/Los_Angeles:20260211T180000
DTEND;TZID=America/Los_Angeles:20260211T200000
DTSTAMP:20260423T224049
CREATED:20250814T173011Z
LAST-MODIFIED:20260116T172652Z
UID:10018016-1770832800-1770840000@konocti-vista-casino.com
SUMMARY:Weekly Line Dancing Lessons at Point Bar
DESCRIPTION:Wednesdays at the Point Bar \nJoin local instructor\, Shari Koch\, for free Line Dancing Lessons in the Point Bar from 6:00pm to 8:00pm. \nMust be 21 or older.
URL:https://konocti-vista-casino.com/event/weekly-line-dancing-lessons-at-point-bar/2026-02-11/
LOCATION:The Point Bar\, 2755 Mission Rancheria Road\, Lakeport\, CA\, 95453\, United States
CATEGORIES:Entertainment
ATTACH;FMTTYPE=image/jpeg:https://konocti-vista-casino.com/wp-content/uploads/2025/08/Weekly-Line-Dancing-Lessons-at-Point-BarTV.jpg
END:VEVENT
BEGIN:VEVENT
DTSTART;VALUE=DATE:20260211
DTEND;VALUE=DATE:20260212
DTSTAMP:20260423T224049
CREATED:20250814T165936Z
LAST-MODIFIED:20250814T165936Z
UID:10016716-1770768000-1770854399@konocti-vista-casino.com
SUMMARY:Freeplay Blitz
DESCRIPTION:Join the Freeplay Blitz every Wednesday and earn up to $100 FREEPLAY! \nEarn $5 freeplay with every 30 same-day points up to 20 times for a total of $100 in Freeplay. \n  \nSee Player’s Club for details. \nManagement Reserves All Rights.
URL:https://konocti-vista-casino.com/event/freeplay-blitz/2026-02-11/
CATEGORIES:Promotions
ATTACH;FMTTYPE=image/jpeg:https://konocti-vista-casino.com/wp-content/uploads/2025/08/8.25-Freeplay-Blitz-Wednesdays-TV.jpg
END:VEVENT
BEGIN:VEVENT
DTSTART;VALUE=DATE:20260208
DTEND;VALUE=DATE:20260209
DTSTAMP:20260423T224049
CREATED:20250430T210304Z
LAST-MODIFIED:20260218T193736Z
UID:10011638-1770508800-1770595199@konocti-vista-casino.com
SUMMARY:Weekly $10 Matchplay
DESCRIPTION:Earn 2 same-day points and we will match it with $10 EZ Kash exclusive for Player’s Club Levels Hitch and Higher! Tule Club Level players can redeem $10 freeplay after earning 4 same-day pojnts. Available every Sunday! Redeem at the Player’s Club or the Player’s Club Kiosk. Limit one per day.
URL:https://konocti-vista-casino.com/event/10-matchplay-2/2026-02-08/
CATEGORIES:Promotions
ATTACH;FMTTYPE=image/jpeg:https://konocti-vista-casino.com/wp-content/uploads/2025/04/2.26-10-Matchplay-Thumbnail.jpg
END:VEVENT
BEGIN:VEVENT
DTSTART;VALUE=DATE:20260207
DTEND;VALUE=DATE:20260208
DTSTAMP:20260423T224049
CREATED:20250814T165709Z
LAST-MODIFIED:20250814T182823Z
UID:10016454-1770422400-1770508799@konocti-vista-casino.com
SUMMARY:Lucky Fortunes Kiosk Wheel
DESCRIPTION:Win up to $100 in Freeplay after earning 25 same-day points and spinning the Lucky Fortunes Kiosk Wheel at the Player’s Club. \nLimit one spin per day. \nSee Player’s Club for more details. \nManagement Reserves All Rights.
URL:https://konocti-vista-casino.com/event/lucky-fortunes-kiosk-wheel-2/2026-02-07/
CATEGORIES:Promotions
ATTACH;FMTTYPE=image/jpeg:https://konocti-vista-casino.com/wp-content/uploads/2025/08/Lucky-Fortunes-Wheel-25-points-Kiosk-Promotion-TV.jpg
END:VEVENT
BEGIN:VEVENT
DTSTART;TZID=America/Los_Angeles:20260206T220000
DTEND;TZID=America/Los_Angeles:20260207T020000
DTSTAMP:20260423T224049
CREATED:20250814T164707Z
LAST-MODIFIED:20260403T213312Z
UID:10015930-1770415200-1770429600@konocti-vista-casino.com
SUMMARY:Latin DJ Night at Point Bar
DESCRIPTION:💃 NOCHE LATINA at Konocti Vista Casino\nTurn up the heat every Friday night at Noche Latina—the ultimate late-night party at the Point Bar. Dance the night away to high-energy Latin beats\, enjoy refreshing drink specials\, and experience the vibrant atmosphere that keeps the party going all night long. \n🎶 Event Details\nTodos los viernes10PM – 2AMDJ en vivo • Música LatinaEntrada Gratuita • Bebidas Especiales📍 Point Bar – Konocti Vista Casino \n🔥 What to Expect\n\nLive DJ spinning the best in Latin hits\nHigh-energy dance floor atmosphere\nSignature cocktails and drink specials\nNo cover charge—just show up and enjoy\n\nBring your friends\, grab a drink\, and feel the rhythm at Noche Latina—only at Konocti Vista Casino\, your Best Bet on the Lake!
URL:https://konocti-vista-casino.com/event/latin-dj-night-at-point-bar/2026-02-06/
LOCATION:The Point Bar\, 2755 Mission Rancheria Road\, Lakeport\, CA\, 95453\, United States
CATEGORIES:Entertainment
ATTACH;FMTTYPE=image/jpeg:https://konocti-vista-casino.com/wp-content/uploads/2025/08/4.26-Noche-Latina-DJ-en-vivo-TV.jpg
END:VEVENT
BEGIN:VEVENT
DTSTART;VALUE=DATE:20260205
DTEND;VALUE=DATE:20260206
DTSTAMP:20260423T224049
CREATED:20250308T213327Z
LAST-MODIFIED:20260402T152329Z
UID:10017016-1770249600-1770335999@konocti-vista-casino.com
SUMMARY:Dollar Stretcher
DESCRIPTION:Every Thursday at the Player’s Club! \nEarn a $20 for $30 Dollar stretcher with after earning 10 same-day points turning your $20 into $30 free play! See Player’s Club for details. \nManagement Reserves All Rights.
URL:https://konocti-vista-casino.com/event/stacked-dollar-stretchers/2026-02-05/
CATEGORIES:Promotions
ATTACH;FMTTYPE=image/jpeg:https://konocti-vista-casino.com/wp-content/uploads/2025/03/1.26-Dollar-Stretchers-Thursdays-TV.jpg
END:VEVENT
BEGIN:VEVENT
DTSTART;TZID=America/Los_Angeles:20260204T180000
DTEND;TZID=America/Los_Angeles:20260204T200000
DTSTAMP:20260423T224049
CREATED:20250814T173011Z
LAST-MODIFIED:20260116T172652Z
UID:10018015-1770228000-1770235200@konocti-vista-casino.com
SUMMARY:Weekly Line Dancing Lessons at Point Bar
DESCRIPTION:Wednesdays at the Point Bar \nJoin local instructor\, Shari Koch\, for free Line Dancing Lessons in the Point Bar from 6:00pm to 8:00pm. \nMust be 21 or older.
URL:https://konocti-vista-casino.com/event/weekly-line-dancing-lessons-at-point-bar/2026-02-04/
LOCATION:The Point Bar\, 2755 Mission Rancheria Road\, Lakeport\, CA\, 95453\, United States
CATEGORIES:Entertainment
ATTACH;FMTTYPE=image/jpeg:https://konocti-vista-casino.com/wp-content/uploads/2025/08/Weekly-Line-Dancing-Lessons-at-Point-BarTV.jpg
END:VEVENT
BEGIN:VEVENT
DTSTART;VALUE=DATE:20260204
DTEND;VALUE=DATE:20260205
DTSTAMP:20260423T224049
CREATED:20250814T165936Z
LAST-MODIFIED:20250814T165936Z
UID:10016715-1770163200-1770249599@konocti-vista-casino.com
SUMMARY:Freeplay Blitz
DESCRIPTION:Join the Freeplay Blitz every Wednesday and earn up to $100 FREEPLAY! \nEarn $5 freeplay with every 30 same-day points up to 20 times for a total of $100 in Freeplay. \n  \nSee Player’s Club for details. \nManagement Reserves All Rights.
URL:https://konocti-vista-casino.com/event/freeplay-blitz/2026-02-04/
CATEGORIES:Promotions
ATTACH;FMTTYPE=image/jpeg:https://konocti-vista-casino.com/wp-content/uploads/2025/08/8.25-Freeplay-Blitz-Wednesdays-TV.jpg
END:VEVENT
BEGIN:VEVENT
DTSTART;VALUE=DATE:20260201
DTEND;VALUE=DATE:20260202
DTSTAMP:20260423T224049
CREATED:20250430T210304Z
LAST-MODIFIED:20260218T193736Z
UID:10011637-1769904000-1769990399@konocti-vista-casino.com
SUMMARY:Weekly $10 Matchplay
DESCRIPTION:Earn 2 same-day points and we will match it with $10 EZ Kash exclusive for Player’s Club Levels Hitch and Higher! Tule Club Level players can redeem $10 freeplay after earning 4 same-day pojnts. Available every Sunday! Redeem at the Player’s Club or the Player’s Club Kiosk. Limit one per day.
URL:https://konocti-vista-casino.com/event/10-matchplay-2/2026-02-01/
CATEGORIES:Promotions
ATTACH;FMTTYPE=image/jpeg:https://konocti-vista-casino.com/wp-content/uploads/2025/04/2.26-10-Matchplay-Thumbnail.jpg
END:VEVENT
BEGIN:VEVENT
DTSTART;VALUE=DATE:20260131
DTEND;VALUE=DATE:20260201
DTSTAMP:20260423T224049
CREATED:20250814T165709Z
LAST-MODIFIED:20250814T182823Z
UID:10016453-1769817600-1769903999@konocti-vista-casino.com
SUMMARY:Lucky Fortunes Kiosk Wheel
DESCRIPTION:Win up to $100 in Freeplay after earning 25 same-day points and spinning the Lucky Fortunes Kiosk Wheel at the Player’s Club. \nLimit one spin per day. \nSee Player’s Club for more details. \nManagement Reserves All Rights.
URL:https://konocti-vista-casino.com/event/lucky-fortunes-kiosk-wheel-2/2026-01-31/
CATEGORIES:Promotions
ATTACH;FMTTYPE=image/jpeg:https://konocti-vista-casino.com/wp-content/uploads/2025/08/Lucky-Fortunes-Wheel-25-points-Kiosk-Promotion-TV.jpg
END:VEVENT
BEGIN:VEVENT
DTSTART;TZID=America/Los_Angeles:20260130T220000
DTEND;TZID=America/Los_Angeles:20260131T020000
DTSTAMP:20260423T224049
CREATED:20250814T164707Z
LAST-MODIFIED:20260403T213312Z
UID:10015929-1769810400-1769824800@konocti-vista-casino.com
SUMMARY:Latin DJ Night at Point Bar
DESCRIPTION:💃 NOCHE LATINA at Konocti Vista Casino\nTurn up the heat every Friday night at Noche Latina—the ultimate late-night party at the Point Bar. Dance the night away to high-energy Latin beats\, enjoy refreshing drink specials\, and experience the vibrant atmosphere that keeps the party going all night long. \n🎶 Event Details\nTodos los viernes10PM – 2AMDJ en vivo • Música LatinaEntrada Gratuita • Bebidas Especiales📍 Point Bar – Konocti Vista Casino \n🔥 What to Expect\n\nLive DJ spinning the best in Latin hits\nHigh-energy dance floor atmosphere\nSignature cocktails and drink specials\nNo cover charge—just show up and enjoy\n\nBring your friends\, grab a drink\, and feel the rhythm at Noche Latina—only at Konocti Vista Casino\, your Best Bet on the Lake!
URL:https://konocti-vista-casino.com/event/latin-dj-night-at-point-bar/2026-01-30/
LOCATION:The Point Bar\, 2755 Mission Rancheria Road\, Lakeport\, CA\, 95453\, United States
CATEGORIES:Entertainment
ATTACH;FMTTYPE=image/jpeg:https://konocti-vista-casino.com/wp-content/uploads/2025/08/4.26-Noche-Latina-DJ-en-vivo-TV.jpg
END:VEVENT
BEGIN:VEVENT
DTSTART;VALUE=DATE:20260129
DTEND;VALUE=DATE:20260130
DTSTAMP:20260423T224049
CREATED:20250308T213327Z
LAST-MODIFIED:20260402T152329Z
UID:10017015-1769644800-1769731199@konocti-vista-casino.com
SUMMARY:Dollar Stretcher
DESCRIPTION:Every Thursday at the Player’s Club! \nEarn a $20 for $30 Dollar stretcher with after earning 10 same-day points turning your $20 into $30 free play! See Player’s Club for details. \nManagement Reserves All Rights.
URL:https://konocti-vista-casino.com/event/stacked-dollar-stretchers/2026-01-29/
CATEGORIES:Promotions
ATTACH;FMTTYPE=image/jpeg:https://konocti-vista-casino.com/wp-content/uploads/2025/03/1.26-Dollar-Stretchers-Thursdays-TV.jpg
END:VEVENT
BEGIN:VEVENT
DTSTART;TZID=America/Los_Angeles:20260128T180000
DTEND;TZID=America/Los_Angeles:20260128T200000
DTSTAMP:20260423T224049
CREATED:20250814T173011Z
LAST-MODIFIED:20260116T172652Z
UID:10018014-1769623200-1769630400@konocti-vista-casino.com
SUMMARY:Weekly Line Dancing Lessons at Point Bar
DESCRIPTION:Wednesdays at the Point Bar \nJoin local instructor\, Shari Koch\, for free Line Dancing Lessons in the Point Bar from 6:00pm to 8:00pm. \nMust be 21 or older.
URL:https://konocti-vista-casino.com/event/weekly-line-dancing-lessons-at-point-bar/2026-01-28/
LOCATION:The Point Bar\, 2755 Mission Rancheria Road\, Lakeport\, CA\, 95453\, United States
CATEGORIES:Entertainment
ATTACH;FMTTYPE=image/jpeg:https://konocti-vista-casino.com/wp-content/uploads/2025/08/Weekly-Line-Dancing-Lessons-at-Point-BarTV.jpg
END:VEVENT
BEGIN:VEVENT
DTSTART;VALUE=DATE:20260128
DTEND;VALUE=DATE:20260129
DTSTAMP:20260423T224049
CREATED:20250814T165936Z
LAST-MODIFIED:20250814T165936Z
UID:10016714-1769558400-1769644799@konocti-vista-casino.com
SUMMARY:Freeplay Blitz
DESCRIPTION:Join the Freeplay Blitz every Wednesday and earn up to $100 FREEPLAY! \nEarn $5 freeplay with every 30 same-day points up to 20 times for a total of $100 in Freeplay. \n  \nSee Player’s Club for details. \nManagement Reserves All Rights.
URL:https://konocti-vista-casino.com/event/freeplay-blitz/2026-01-28/
CATEGORIES:Promotions
ATTACH;FMTTYPE=image/jpeg:https://konocti-vista-casino.com/wp-content/uploads/2025/08/8.25-Freeplay-Blitz-Wednesdays-TV.jpg
END:VEVENT
BEGIN:VEVENT
DTSTART;VALUE=DATE:20260125
DTEND;VALUE=DATE:20260126
DTSTAMP:20260423T224049
CREATED:20250430T210304Z
LAST-MODIFIED:20260218T193736Z
UID:10011636-1769299200-1769385599@konocti-vista-casino.com
SUMMARY:Weekly $10 Matchplay
DESCRIPTION:Earn 2 same-day points and we will match it with $10 EZ Kash exclusive for Player’s Club Levels Hitch and Higher! Tule Club Level players can redeem $10 freeplay after earning 4 same-day pojnts. Available every Sunday! Redeem at the Player’s Club or the Player’s Club Kiosk. Limit one per day.
URL:https://konocti-vista-casino.com/event/10-matchplay-2/2026-01-25/
CATEGORIES:Promotions
ATTACH;FMTTYPE=image/jpeg:https://konocti-vista-casino.com/wp-content/uploads/2025/04/2.26-10-Matchplay-Thumbnail.jpg
END:VEVENT
BEGIN:VEVENT
DTSTART;VALUE=DATE:20260124
DTEND;VALUE=DATE:20260125
DTSTAMP:20260423T224049
CREATED:20250814T165709Z
LAST-MODIFIED:20250814T182823Z
UID:10016452-1769212800-1769299199@konocti-vista-casino.com
SUMMARY:Lucky Fortunes Kiosk Wheel
DESCRIPTION:Win up to $100 in Freeplay after earning 25 same-day points and spinning the Lucky Fortunes Kiosk Wheel at the Player’s Club. \nLimit one spin per day. \nSee Player’s Club for more details. \nManagement Reserves All Rights.
URL:https://konocti-vista-casino.com/event/lucky-fortunes-kiosk-wheel-2/2026-01-24/
CATEGORIES:Promotions
ATTACH;FMTTYPE=image/jpeg:https://konocti-vista-casino.com/wp-content/uploads/2025/08/Lucky-Fortunes-Wheel-25-points-Kiosk-Promotion-TV.jpg
END:VEVENT
BEGIN:VEVENT
DTSTART;TZID=America/Los_Angeles:20260123T220000
DTEND;TZID=America/Los_Angeles:20260124T020000
DTSTAMP:20260423T224049
CREATED:20250814T164707Z
LAST-MODIFIED:20260403T213312Z
UID:10015928-1769205600-1769220000@konocti-vista-casino.com
SUMMARY:Latin DJ Night at Point Bar
DESCRIPTION:💃 NOCHE LATINA at Konocti Vista Casino\nTurn up the heat every Friday night at Noche Latina—the ultimate late-night party at the Point Bar. Dance the night away to high-energy Latin beats\, enjoy refreshing drink specials\, and experience the vibrant atmosphere that keeps the party going all night long. \n🎶 Event Details\nTodos los viernes10PM – 2AMDJ en vivo • Música LatinaEntrada Gratuita • Bebidas Especiales📍 Point Bar – Konocti Vista Casino \n🔥 What to Expect\n\nLive DJ spinning the best in Latin hits\nHigh-energy dance floor atmosphere\nSignature cocktails and drink specials\nNo cover charge—just show up and enjoy\n\nBring your friends\, grab a drink\, and feel the rhythm at Noche Latina—only at Konocti Vista Casino\, your Best Bet on the Lake!
URL:https://konocti-vista-casino.com/event/latin-dj-night-at-point-bar/2026-01-23/
LOCATION:The Point Bar\, 2755 Mission Rancheria Road\, Lakeport\, CA\, 95453\, United States
CATEGORIES:Entertainment
ATTACH;FMTTYPE=image/jpeg:https://konocti-vista-casino.com/wp-content/uploads/2025/08/4.26-Noche-Latina-DJ-en-vivo-TV.jpg
END:VEVENT
BEGIN:VEVENT
DTSTART;VALUE=DATE:20260122
DTEND;VALUE=DATE:20260123
DTSTAMP:20260423T224049
CREATED:20250308T213327Z
LAST-MODIFIED:20260402T152329Z
UID:10017014-1769040000-1769126399@konocti-vista-casino.com
SUMMARY:Dollar Stretcher
DESCRIPTION:Every Thursday at the Player’s Club! \nEarn a $20 for $30 Dollar stretcher with after earning 10 same-day points turning your $20 into $30 free play! See Player’s Club for details. \nManagement Reserves All Rights.
URL:https://konocti-vista-casino.com/event/stacked-dollar-stretchers/2026-01-22/
CATEGORIES:Promotions
ATTACH;FMTTYPE=image/jpeg:https://konocti-vista-casino.com/wp-content/uploads/2025/03/1.26-Dollar-Stretchers-Thursdays-TV.jpg
END:VEVENT
BEGIN:VEVENT
DTSTART;TZID=America/Los_Angeles:20260121T180000
DTEND;TZID=America/Los_Angeles:20260121T200000
DTSTAMP:20260423T224049
CREATED:20250814T173011Z
LAST-MODIFIED:20260116T172652Z
UID:10018013-1769018400-1769025600@konocti-vista-casino.com
SUMMARY:Weekly Line Dancing Lessons at Point Bar
DESCRIPTION:Wednesdays at the Point Bar \nJoin local instructor\, Shari Koch\, for free Line Dancing Lessons in the Point Bar from 6:00pm to 8:00pm. \nMust be 21 or older.
URL:https://konocti-vista-casino.com/event/weekly-line-dancing-lessons-at-point-bar/2026-01-21/
LOCATION:The Point Bar\, 2755 Mission Rancheria Road\, Lakeport\, CA\, 95453\, United States
CATEGORIES:Entertainment
ATTACH;FMTTYPE=image/jpeg:https://konocti-vista-casino.com/wp-content/uploads/2025/08/Weekly-Line-Dancing-Lessons-at-Point-BarTV.jpg
END:VEVENT
BEGIN:VEVENT
DTSTART;VALUE=DATE:20260121
DTEND;VALUE=DATE:20260122
DTSTAMP:20260423T224049
CREATED:20250814T165936Z
LAST-MODIFIED:20250814T165936Z
UID:10016713-1768953600-1769039999@konocti-vista-casino.com
SUMMARY:Freeplay Blitz
DESCRIPTION:Join the Freeplay Blitz every Wednesday and earn up to $100 FREEPLAY! \nEarn $5 freeplay with every 30 same-day points up to 20 times for a total of $100 in Freeplay. \n  \nSee Player’s Club for details. \nManagement Reserves All Rights.
URL:https://konocti-vista-casino.com/event/freeplay-blitz/2026-01-21/
CATEGORIES:Promotions
ATTACH;FMTTYPE=image/jpeg:https://konocti-vista-casino.com/wp-content/uploads/2025/08/8.25-Freeplay-Blitz-Wednesdays-TV.jpg
END:VEVENT
BEGIN:VEVENT
DTSTART;VALUE=DATE:20260118
DTEND;VALUE=DATE:20260119
DTSTAMP:20260423T224049
CREATED:20250430T210304Z
LAST-MODIFIED:20260218T193736Z
UID:10011635-1768694400-1768780799@konocti-vista-casino.com
SUMMARY:Weekly $10 Matchplay
DESCRIPTION:Earn 2 same-day points and we will match it with $10 EZ Kash exclusive for Player’s Club Levels Hitch and Higher! Tule Club Level players can redeem $10 freeplay after earning 4 same-day pojnts. Available every Sunday! Redeem at the Player’s Club or the Player’s Club Kiosk. Limit one per day.
URL:https://konocti-vista-casino.com/event/10-matchplay-2/2026-01-18/
CATEGORIES:Promotions
ATTACH;FMTTYPE=image/jpeg:https://konocti-vista-casino.com/wp-content/uploads/2025/04/2.26-10-Matchplay-Thumbnail.jpg
END:VEVENT
BEGIN:VEVENT
DTSTART;VALUE=DATE:20260117
DTEND;VALUE=DATE:20260118
DTSTAMP:20260423T224049
CREATED:20250814T165709Z
LAST-MODIFIED:20250814T182823Z
UID:10016451-1768608000-1768694399@konocti-vista-casino.com
SUMMARY:Lucky Fortunes Kiosk Wheel
DESCRIPTION:Win up to $100 in Freeplay after earning 25 same-day points and spinning the Lucky Fortunes Kiosk Wheel at the Player’s Club. \nLimit one spin per day. \nSee Player’s Club for more details. \nManagement Reserves All Rights.
URL:https://konocti-vista-casino.com/event/lucky-fortunes-kiosk-wheel-2/2026-01-17/
CATEGORIES:Promotions
ATTACH;FMTTYPE=image/jpeg:https://konocti-vista-casino.com/wp-content/uploads/2025/08/Lucky-Fortunes-Wheel-25-points-Kiosk-Promotion-TV.jpg
END:VEVENT
BEGIN:VEVENT
DTSTART;TZID=America/Los_Angeles:20260116T220000
DTEND;TZID=America/Los_Angeles:20260117T020000
DTSTAMP:20260423T224049
CREATED:20250814T164707Z
LAST-MODIFIED:20260403T213312Z
UID:10015927-1768600800-1768615200@konocti-vista-casino.com
SUMMARY:Latin DJ Night at Point Bar
DESCRIPTION:💃 NOCHE LATINA at Konocti Vista Casino\nTurn up the heat every Friday night at Noche Latina—the ultimate late-night party at the Point Bar. Dance the night away to high-energy Latin beats\, enjoy refreshing drink specials\, and experience the vibrant atmosphere that keeps the party going all night long. \n🎶 Event Details\nTodos los viernes10PM – 2AMDJ en vivo • Música LatinaEntrada Gratuita • Bebidas Especiales📍 Point Bar – Konocti Vista Casino \n🔥 What to Expect\n\nLive DJ spinning the best in Latin hits\nHigh-energy dance floor atmosphere\nSignature cocktails and drink specials\nNo cover charge—just show up and enjoy\n\nBring your friends\, grab a drink\, and feel the rhythm at Noche Latina—only at Konocti Vista Casino\, your Best Bet on the Lake!
URL:https://konocti-vista-casino.com/event/latin-dj-night-at-point-bar/2026-01-16/
LOCATION:The Point Bar\, 2755 Mission Rancheria Road\, Lakeport\, CA\, 95453\, United States
CATEGORIES:Entertainment
ATTACH;FMTTYPE=image/jpeg:https://konocti-vista-casino.com/wp-content/uploads/2025/08/4.26-Noche-Latina-DJ-en-vivo-TV.jpg
END:VEVENT
BEGIN:VEVENT
DTSTART;VALUE=DATE:20260115
DTEND;VALUE=DATE:20260116
DTSTAMP:20260423T224049
CREATED:20250308T213327Z
LAST-MODIFIED:20260402T152329Z
UID:10017013-1768435200-1768521599@konocti-vista-casino.com
SUMMARY:Dollar Stretcher
DESCRIPTION:Every Thursday at the Player’s Club! \nEarn a $20 for $30 Dollar stretcher with after earning 10 same-day points turning your $20 into $30 free play! See Player’s Club for details. \nManagement Reserves All Rights.
URL:https://konocti-vista-casino.com/event/stacked-dollar-stretchers/2026-01-15/
CATEGORIES:Promotions
ATTACH;FMTTYPE=image/jpeg:https://konocti-vista-casino.com/wp-content/uploads/2025/03/1.26-Dollar-Stretchers-Thursdays-TV.jpg
END:VEVENT
END:VCALENDAR